BEGIN:VCALENDAR
VERSION:2.0
PRODID:-//פנינה כץ - הורוסקופ שבועי - ECPv6.15.20//NONSGML v1.0//EN
CALSCALE:GREGORIAN
METHOD:PUBLISH
X-ORIGINAL-URL:https://www.pninastro.com
X-WR-CALDESC:Events for פנינה כץ - הורוסקופ שבועי
REFRESH-INTERVAL;VALUE=DURATION:PT1H
X-Robots-Tag:noindex
X-PUBLISHED-TTL:PT1H
BEGIN:VTIMEZONE
TZID:Asia/Jerusalem
BEGIN:DAYLIGHT
TZOFFSETFROM:+0200
TZOFFSETTO:+0300
TZNAME:IDT
DTSTART:20200327T000000
END:DAYLIGHT
BEGIN:STANDARD
TZOFFSETFROM:+0300
TZOFFSETTO:+0200
TZNAME:IST
DTSTART:20201024T230000
END:STANDARD
BEGIN:DAYLIGHT
TZOFFSETFROM:+0200
TZOFFSETTO:+0300
TZNAME:IDT
DTSTART:20210326T000000
END:DAYLIGHT
BEGIN:STANDARD
TZOFFSETFROM:+0300
TZOFFSETTO:+0200
TZNAME:IST
DTSTART:20211030T230000
END:STANDARD
BEGIN:DAYLIGHT
TZOFFSETFROM:+0200
TZOFFSETTO:+0300
TZNAME:IDT
DTSTART:20220325T000000
END:DAYLIGHT
BEGIN:STANDARD
TZOFFSETFROM:+0300
TZOFFSETTO:+0200
TZNAME:IST
DTSTART:20221029T230000
END:STANDARD
END:VTIMEZONE
BEGIN:VEVENT
DTSTART;TZID=Asia/Jerusalem:20210529T080000
DTEND;TZID=Asia/Jerusalem:20210622T170000
DTSTAMP:20260419T154717
CREATED:20200811T113839Z
LAST-MODIFIED:20200811T113839Z
UID:26143-1622275200-1624381200@www.pninastro.com
SUMMARY:מרקורי בנסיגה במזל תאומים
DESCRIPTION:
URL:https://www.pninastro.com/event/%d7%9e%d7%a8%d7%a7%d7%95%d7%a8%d7%99-%d7%91%d7%a0%d7%a1%d7%99%d7%92%d7%94-%d7%91%d7%9e%d7%96%d7%9c-%d7%aa%d7%90%d7%95%d7%9e%d7%99%d7%9d/
END:VEVENT
BEGIN:VEVENT
DTSTART;TZID=Asia/Jerusalem:20210601T091200
DTEND;TZID=Asia/Jerusalem:20210601T120600
DTSTAMP:20260419T154717
CREATED:20201231T111422Z
LAST-MODIFIED:20201231T111422Z
UID:27741-1622538720-1622549160@www.pninastro.com
SUMMARY:ירח שחור במזל דגים
DESCRIPTION:
URL:https://www.pninastro.com/event/%d7%99%d7%a8%d7%97-%d7%a9%d7%97%d7%95%d7%a8-%d7%91%d7%9e%d7%96%d7%9c-%d7%93%d7%92%d7%99%d7%9d-48/
END:VEVENT
BEGIN:VEVENT
DTSTART;TZID=Asia/Jerusalem:20210603T140000
DTEND;TZID=Asia/Jerusalem:20210603T203500
DTSTAMP:20260419T154717
CREATED:20201231T111554Z
LAST-MODIFIED:20201231T111554Z
UID:27743-1622728800-1622752500@www.pninastro.com
SUMMARY:ירח שחור במזל טלה
DESCRIPTION:
URL:https://www.pninastro.com/event/%d7%99%d7%a8%d7%97-%d7%a9%d7%97%d7%95%d7%a8-%d7%91%d7%9e%d7%96%d7%9c-%d7%98%d7%9c%d7%94-48/
END:VEVENT
BEGIN:VEVENT
DTSTART;TZID=Asia/Jerusalem:20210606T014600
DTEND;TZID=Asia/Jerusalem:20210606T084500
DTSTAMP:20260419T154717
CREATED:20201231T112256Z
LAST-MODIFIED:20201231T112256Z
UID:27745-1622943960-1622969100@www.pninastro.com
SUMMARY:ירח שחור במזל שור
DESCRIPTION:
URL:https://www.pninastro.com/event/%d7%99%d7%a8%d7%97-%d7%a9%d7%97%d7%95%d7%a8-%d7%91%d7%9e%d7%96%d7%9c-%d7%a9%d7%95%d7%a8-48/
END:VEVENT
BEGIN:VEVENT
DTSTART;TZID=Asia/Jerusalem:20210608T180600
DTEND;TZID=Asia/Jerusalem:20210608T214600
DTSTAMP:20260419T154717
CREATED:20201231T112623Z
LAST-MODIFIED:20201231T112623Z
UID:27747-1623175560-1623188760@www.pninastro.com
SUMMARY:ירח שחור במזל תאומים
DESCRIPTION:
URL:https://www.pninastro.com/event/%d7%99%d7%a8%d7%97-%d7%a9%d7%97%d7%95%d7%a8-%d7%91%d7%9e%d7%96%d7%9c-%d7%aa%d7%90%d7%95%d7%9e%d7%99%d7%9d-49/
END:VEVENT
BEGIN:VEVENT
DTSTART;TZID=Asia/Jerusalem:20210610T134300
DTEND;TZID=Asia/Jerusalem:20210610T134300
DTSTAMP:20260419T154717
CREATED:20200811T114532Z
LAST-MODIFIED:20200811T114532Z
UID:26147-1623332580-1623332580@www.pninastro.com
SUMMARY:ליקוי חמה טבעתי במזל תאומים
DESCRIPTION:
URL:https://www.pninastro.com/event/%d7%9c%d7%99%d7%a7%d7%95%d7%99-%d7%97%d7%9e%d7%94-%d7%91%d7%9e%d7%96%d7%9c-%d7%aa%d7%90%d7%95%d7%9e%d7%99%d7%9d/
END:VEVENT
BEGIN:VEVENT
DTSTART;TZID=Asia/Jerusalem:20210610T135400
DTEND;TZID=Asia/Jerusalem:20210610T135400
DTSTAMP:20260419T154717
CREATED:20210101T113922Z
LAST-MODIFIED:20210101T113922Z
UID:27860-1623333240-1623333240@www.pninastro.com
SUMMARY:מולד ירח במזל תאומים
DESCRIPTION:
URL:https://www.pninastro.com/event/%d7%9e%d7%95%d7%9c%d7%93-%d7%99%d7%a8%d7%97-%d7%91%d7%9e%d7%96%d7%9c-%d7%aa%d7%90%d7%95%d7%9e%d7%99%d7%9d-2/
END:VEVENT
BEGIN:VEVENT
DTSTART;TZID=Asia/Jerusalem:20210610T203400
DTEND;TZID=Asia/Jerusalem:20210611T102100
DTSTAMP:20260419T154717
CREATED:20201231T112825Z
LAST-MODIFIED:20201231T112825Z
UID:27749-1623357240-1623406860@www.pninastro.com
SUMMARY:ירח שחור במזל סרטן
DESCRIPTION:
URL:https://www.pninastro.com/event/%d7%99%d7%a8%d7%97-%d7%a9%d7%97%d7%95%d7%a8-%d7%91%d7%9e%d7%96%d7%9c-%d7%a1%d7%a8%d7%98%d7%9f-48/
END:VEVENT
BEGIN:VEVENT
DTSTART;TZID=Asia/Jerusalem:20210613T140600
DTEND;TZID=Asia/Jerusalem:20210613T212100
DTSTAMP:20260419T154717
CREATED:20201231T113036Z
LAST-MODIFIED:20201231T113036Z
UID:27751-1623593160-1623619260@www.pninastro.com
SUMMARY:ירח שחור במזל אריה
DESCRIPTION:
URL:https://www.pninastro.com/event/%d7%99%d7%a8%d7%97-%d7%a9%d7%97%d7%95%d7%a8-%d7%91%d7%9e%d7%96%d7%9c-%d7%90%d7%a8%d7%99%d7%94-51/
END:VEVENT
BEGIN:VEVENT
DTSTART;TZID=Asia/Jerusalem:20210615T202600
DTEND;TZID=Asia/Jerusalem:20210616T060100
DTSTAMP:20260419T154717
CREATED:20201231T113134Z
LAST-MODIFIED:20201231T113134Z
UID:27753-1623788760-1623823260@www.pninastro.com
SUMMARY:ירח שחור במזל בתולה
DESCRIPTION:
URL:https://www.pninastro.com/event/%d7%99%d7%a8%d7%97-%d7%a9%d7%97%d7%95%d7%a8-%d7%91%d7%9e%d7%96%d7%9c-%d7%91%d7%aa%d7%95%d7%9c%d7%94-49/
END:VEVENT
BEGIN:VEVENT
DTSTART;TZID=Asia/Jerusalem:20210618T065300
DTEND;TZID=Asia/Jerusalem:20210618T115300
DTSTAMP:20260419T154717
CREATED:20201231T113320Z
LAST-MODIFIED:20201231T113320Z
UID:27755-1623999180-1624017180@www.pninastro.com
SUMMARY:ירח שחור במזל מאזניים
DESCRIPTION:
URL:https://www.pninastro.com/event/%d7%99%d7%a8%d7%97-%d7%a9%d7%97%d7%95%d7%a8-%d7%91%d7%9e%d7%96%d7%9c-%d7%9e%d7%90%d7%96%d7%a0%d7%99%d7%99%d7%9d-50/
END:VEVENT
BEGIN:VEVENT
DTSTART;TZID=Asia/Jerusalem:20210620T135000
DTEND;TZID=Asia/Jerusalem:20210620T145700
DTSTAMP:20260419T154717
CREATED:20201231T113420Z
LAST-MODIFIED:20201231T113420Z
UID:27757-1624197000-1624201020@www.pninastro.com
SUMMARY:ירח שחור במזל עקרב
DESCRIPTION:
URL:https://www.pninastro.com/event/%d7%99%d7%a8%d7%97-%d7%a9%d7%97%d7%95%d7%a8-%d7%91%d7%9e%d7%96%d7%9c-%d7%a2%d7%a7%d7%a8%d7%91-52/
END:VEVENT
BEGIN:VEVENT
DTSTART;TZID=Asia/Jerusalem:20210622T093500
DTEND;TZID=Asia/Jerusalem:20210622T155500
DTSTAMP:20260419T154717
CREATED:20201231T113508Z
LAST-MODIFIED:20201231T113508Z
UID:27759-1624354500-1624377300@www.pninastro.com
SUMMARY:ירח שחור במזל קשת
DESCRIPTION:
URL:https://www.pninastro.com/event/%d7%99%d7%a8%d7%97-%d7%a9%d7%97%d7%95%d7%a8-%d7%91%d7%9e%d7%96%d7%9c-%d7%a7%d7%a9%d7%aa-47/
END:VEVENT
BEGIN:VEVENT
DTSTART;TZID=Asia/Jerusalem:20210624T050600
DTEND;TZID=Asia/Jerusalem:20210624T160400
DTSTAMP:20260419T154717
CREATED:20201231T113601Z
LAST-MODIFIED:20201231T113601Z
UID:27761-1624511160-1624550640@www.pninastro.com
SUMMARY:ירח שחור במזל גדי
DESCRIPTION:
URL:https://www.pninastro.com/event/%d7%99%d7%a8%d7%97-%d7%a9%d7%97%d7%95%d7%a8-%d7%91%d7%9e%d7%96%d7%9c-%d7%92%d7%93%d7%99-49/
END:VEVENT
BEGIN:VEVENT
DTSTART;TZID=Asia/Jerusalem:20210624T214200
DTEND;TZID=Asia/Jerusalem:20210624T214200
DTSTAMP:20260419T154717
CREATED:20210101T114322Z
LAST-MODIFIED:20210101T114322Z
UID:27870-1624570920-1624570920@www.pninastro.com
SUMMARY:ירח מלא במזל די
DESCRIPTION:
URL:https://www.pninastro.com/event/%d7%99%d7%a8%d7%97-%d7%9e%d7%9c%d7%90-%d7%91%d7%9e%d7%96%d7%9c-%d7%93%d7%99/
END:VEVENT
BEGIN:VEVENT
DTSTART;TZID=Asia/Jerusalem:20210626T154800
DTEND;TZID=Asia/Jerusalem:20210626T170800
DTSTAMP:20260419T154717
CREATED:20201231T113647Z
LAST-MODIFIED:20201231T113647Z
UID:27763-1624722480-1624727280@www.pninastro.com
SUMMARY:ירח שחור במזל דלי
DESCRIPTION:
URL:https://www.pninastro.com/event/%d7%99%d7%a8%d7%97-%d7%a9%d7%97%d7%95%d7%a8-%d7%91%d7%9e%d7%96%d7%9c-%d7%93%d7%9c%d7%99-49/
END:VEVENT
BEGIN:VEVENT
DTSTART;TZID=Asia/Jerusalem:20210627T220700
DTEND;TZID=Asia/Jerusalem:20210628T205000
DTSTAMP:20260419T154717
CREATED:20201231T113756Z
LAST-MODIFIED:20201231T113756Z
UID:27765-1624831620-1624913400@www.pninastro.com
SUMMARY:ירח שחור במזל דגים
DESCRIPTION:
URL:https://www.pninastro.com/event/%d7%99%d7%a8%d7%97-%d7%a9%d7%97%d7%95%d7%a8-%d7%91%d7%9e%d7%96%d7%9c-%d7%93%d7%92%d7%99%d7%9d-49/
END:VEVENT
BEGIN:VEVENT
DTSTART;TZID=Asia/Jerusalem:20210630T202900
DTEND;TZID=Asia/Jerusalem:20210701T042000
DTSTAMP:20260419T154717
CREATED:20201231T113921Z
LAST-MODIFIED:20201231T113921Z
UID:27767-1625084940-1625113200@www.pninastro.com
SUMMARY:ירח שחור במזל טלה
DESCRIPTION:
URL:https://www.pninastro.com/event/%d7%99%d7%a8%d7%97-%d7%a9%d7%97%d7%95%d7%a8-%d7%91%d7%9e%d7%96%d7%9c-%d7%98%d7%9c%d7%94-49/
END:VEVENT
END:VCALENDAR