BEGIN:VCALENDAR
VERSION:2.0
PRODID:-//פנינה כץ - הורוסקופ שבועי - ECPv6.15.20//NONSGML v1.0//EN
CALSCALE:GREGORIAN
METHOD:PUBLISH
X-WR-CALNAME:פנינה כץ - הורוסקופ שבועי
X-ORIGINAL-URL:https://www.pninastro.com
X-WR-CALDESC:Events for פנינה כץ - הורוסקופ שבועי
REFRESH-INTERVAL;VALUE=DURATION:PT1H
X-Robots-Tag:noindex
X-PUBLISHED-TTL:PT1H
BEGIN:VTIMEZONE
TZID:Asia/Jerusalem
BEGIN:DAYLIGHT
TZOFFSETFROM:+0200
TZOFFSETTO:+0300
TZNAME:IDT
DTSTART:20200327T000000
END:DAYLIGHT
BEGIN:STANDARD
TZOFFSETFROM:+0300
TZOFFSETTO:+0200
TZNAME:IST
DTSTART:20201024T230000
END:STANDARD
BEGIN:DAYLIGHT
TZOFFSETFROM:+0200
TZOFFSETTO:+0300
TZNAME:IDT
DTSTART:20210326T000000
END:DAYLIGHT
BEGIN:STANDARD
TZOFFSETFROM:+0300
TZOFFSETTO:+0200
TZNAME:IST
DTSTART:20211030T230000
END:STANDARD
BEGIN:DAYLIGHT
TZOFFSETFROM:+0200
TZOFFSETTO:+0300
TZNAME:IDT
DTSTART:20220325T000000
END:DAYLIGHT
BEGIN:STANDARD
TZOFFSETFROM:+0300
TZOFFSETTO:+0200
TZNAME:IST
DTSTART:20221029T230000
END:STANDARD
END:VTIMEZONE
BEGIN:VEVENT
DTSTART;TZID=Asia/Jerusalem:20210927T080000
DTEND;TZID=Asia/Jerusalem:20211018T170000
DTSTAMP:20260419T220751
CREATED:20210327T112529Z
LAST-MODIFIED:20210327T112529Z
UID:28766-1632729600-1634576400@www.pninastro.com
SUMMARY:מרקורי בנסיגה במזל מאזניים
DESCRIPTION:
URL:https://www.pninastro.com/event/%d7%9e%d7%a8%d7%a7%d7%95%d7%a8%d7%99-%d7%91%d7%a0%d7%a1%d7%99%d7%92%d7%94-%d7%91%d7%9e%d7%96%d7%9c-%d7%9e%d7%90%d7%96%d7%a0%d7%99%d7%99%d7%9d/
END:VEVENT
BEGIN:VEVENT
DTSTART;TZID=Asia/Jerusalem:20210930T174800
DTEND;TZID=Asia/Jerusalem:20211001T035200
DTSTAMP:20260419T220751
CREATED:20210101T113347Z
LAST-MODIFIED:20210101T113347Z
UID:27858-1633024080-1633060320@www.pninastro.com
SUMMARY:ירח שחור במזל אריה
DESCRIPTION:
URL:https://www.pninastro.com/event/%d7%99%d7%a8%d7%97-%d7%a9%d7%97%d7%95%d7%a8-%d7%91%d7%9e%d7%96%d7%9c-%d7%90%d7%a8%d7%99%d7%94-55/
END:VEVENT
BEGIN:VEVENT
DTSTART;TZID=Asia/Jerusalem:20211003T024100
DTEND;TZID=Asia/Jerusalem:20211003T113200
DTSTAMP:20260419T220751
CREATED:20211003T122216Z
LAST-MODIFIED:20211003T122216Z
UID:31228-1633228860-1633260720@www.pninastro.com
SUMMARY:ירח שחור במזל בתולה
DESCRIPTION:
URL:https://www.pninastro.com/event/%d7%99%d7%a8-%d7%a9%d7%97%d7%95%d7%a8-%d7%91%d7%9e%d7%96%d7%9c-%d7%91%d7%aa%d7%95%d7%9c%d7%94/
END:VEVENT
BEGIN:VEVENT
DTSTART;TZID=Asia/Jerusalem:20211005T114500
DTEND;TZID=Asia/Jerusalem:20211005T154000
DTSTAMP:20260419T220751
CREATED:20211003T122312Z
LAST-MODIFIED:20211003T122312Z
UID:31231-1633434300-1633448400@www.pninastro.com
SUMMARY:ירח שחור במזל מאזניים
DESCRIPTION:
URL:https://www.pninastro.com/event/%d7%99%d7%a8%d7%97-%d7%a9%d7%97%d7%95%d7%a8-%d7%91%d7%9e%d7%96%d7%9c-%d7%9e%d7%90%d7%96%d7%a0%d7%99%d7%99%d7%9d-66/
END:VEVENT
BEGIN:VEVENT
DTSTART;TZID=Asia/Jerusalem:20211006T140600
DTEND;TZID=Asia/Jerusalem:20211006T140600
DTSTAMP:20260419T220751
CREATED:20210327T113531Z
LAST-MODIFIED:20210327T113531Z
UID:28775-1633529160-1633529160@www.pninastro.com
SUMMARY:מולד ירח במזל מאזניים
DESCRIPTION:
URL:https://www.pninastro.com/event/%d7%9e%d7%95%d7%9c%d7%93-%d7%99%d7%a8%d7%97-%d7%91%d7%9e%d7%96%d7%9c-%d7%9e%d7%90%d7%96%d7%a0%d7%99%d7%99%d7%9d-3/
END:VEVENT
BEGIN:VEVENT
DTSTART;TZID=Asia/Jerusalem:20211007T075400
DTEND;TZID=Asia/Jerusalem:20211007T172100
DTSTAMP:20260419T220751
CREATED:20210327T115428Z
LAST-MODIFIED:20210327T115428Z
UID:28793-1633593240-1633627260@www.pninastro.com
SUMMARY:ירח שחור במזל עקרב
DESCRIPTION:
URL:https://www.pninastro.com/event/%d7%99%d7%a8%d7%97-%d7%a9%d7%97%d7%95%d7%a8-%d7%91%d7%9e%d7%96%d7%9c-%d7%a2%d7%a7%d7%a8%d7%91-56/
END:VEVENT
BEGIN:VEVENT
DTSTART;TZID=Asia/Jerusalem:20211009T085600
DTEND;TZID=Asia/Jerusalem:20211009T182300
DTSTAMP:20260419T220751
CREATED:20210327T115550Z
LAST-MODIFIED:20210327T115550Z
UID:28795-1633769760-1633803780@www.pninastro.com
SUMMARY:ירח שחור במזל קשת
DESCRIPTION:
URL:https://www.pninastro.com/event/%d7%99%d7%a8%d7%97-%d7%a9%d7%97%d7%95%d7%a8-%d7%91%d7%9e%d7%96%d7%9c-%d7%a7%d7%a9%d7%aa-50/
END:VEVENT
BEGIN:VEVENT
DTSTART;TZID=Asia/Jerusalem:20211011T073300
DTEND;TZID=Asia/Jerusalem:20211011T201400
DTSTAMP:20260419T220751
CREATED:20210327T115714Z
LAST-MODIFIED:20210327T115714Z
UID:28797-1633937580-1633983240@www.pninastro.com
SUMMARY:ירח שחור במזל גדי
DESCRIPTION:
URL:https://www.pninastro.com/event/%d7%99%d7%a8%d7%97-%d7%a9%d7%97%d7%95%d7%a8-%d7%91%d7%9e%d7%96%d7%9c-%d7%92%d7%93%d7%99-53/
END:VEVENT
BEGIN:VEVENT
DTSTART;TZID=Asia/Jerusalem:20211013T134300
DTEND;TZID=Asia/Jerusalem:20211013T234600
DTSTAMP:20260419T220751
CREATED:20210327T115830Z
LAST-MODIFIED:20210327T115830Z
UID:28799-1634132580-1634168760@www.pninastro.com
SUMMARY:ירח שחור במזל דלי
DESCRIPTION:
URL:https://www.pninastro.com/event/%d7%99%d7%a8%d7%97-%d7%a9%d7%97%d7%95%d7%a8-%d7%91%d7%9e%d7%96%d7%9c-%d7%93%d7%9c%d7%99-53/
END:VEVENT
BEGIN:VEVENT
DTSTART;TZID=Asia/Jerusalem:20211015T153200
DTEND;TZID=Asia/Jerusalem:20211016T052100
DTSTAMP:20260419T220751
CREATED:20210327T115940Z
LAST-MODIFIED:20210327T115940Z
UID:28801-1634311920-1634361660@www.pninastro.com
SUMMARY:ירח שחור במזל דגים
DESCRIPTION:
URL:https://www.pninastro.com/event/%d7%99%d7%a8%d7%97-%d7%a9%d7%97%d7%95%d7%a8-%d7%91%d7%9e%d7%96%d7%9c-%d7%93%d7%92%d7%99%d7%9d-53/
END:VEVENT
BEGIN:VEVENT
DTSTART;TZID=Asia/Jerusalem:20211018T021300
DTEND;TZID=Asia/Jerusalem:20211018T130300
DTSTAMP:20260419T220751
CREATED:20210327T120051Z
LAST-MODIFIED:20210327T120051Z
UID:28803-1634523180-1634562180@www.pninastro.com
SUMMARY:ירח שחור במזל טלה
DESCRIPTION:
URL:https://www.pninastro.com/event/%d7%99%d7%a8%d7%97-%d7%a9%d7%97%d7%95%d7%a8-%d7%91%d7%9e%d7%96%d7%9c-%d7%9e%d7%90%d7%96%d7%a0%d7%99%d7%99%d7%9d-54/
END:VEVENT
BEGIN:VEVENT
DTSTART;TZID=Asia/Jerusalem:20211018T080000
DTEND;TZID=Asia/Jerusalem:20211018T170000
DTSTAMP:20260419T220751
CREATED:20210327T112741Z
LAST-MODIFIED:20210327T112741Z
UID:28768-1634544000-1634576400@www.pninastro.com
SUMMARY:יופיטר משתחרר מנסיגה במזל דלי
DESCRIPTION:
URL:https://www.pninastro.com/event/%d7%99%d7%95%d7%a4%d7%99%d7%98%d7%a8-%d7%9e%d7%a9%d7%aa%d7%97%d7%a8%d7%a8-%d7%9e%d7%a0%d7%a1%d7%99%d7%92%d7%94-%d7%91%d7%9e%d7%96%d7%9c-%d7%93%d7%9c%d7%99/
END:VEVENT
BEGIN:VEVENT
DTSTART;TZID=Asia/Jerusalem:20211020T165800
DTEND;TZID=Asia/Jerusalem:20211020T165800
DTSTAMP:20260419T220751
CREATED:20210327T114451Z
LAST-MODIFIED:20210327T114451Z
UID:28785-1634749080-1634749080@www.pninastro.com
SUMMARY:ירח מלא במזל טלה
DESCRIPTION:
URL:https://www.pninastro.com/event/%d7%99%d7%a8%d7%97-%d7%9e%d7%9c%d7%90-%d7%91%d7%9e%d7%96%d7%9c-%d7%98%d7%9c%d7%94-5/
END:VEVENT
BEGIN:VEVENT
DTSTART;TZID=Asia/Jerusalem:20211020T175500
DTEND;TZID=Asia/Jerusalem:20211020T225800
DTSTAMP:20260419T220751
CREATED:20210327T120312Z
LAST-MODIFIED:20210327T120312Z
UID:28806-1634752500-1634770680@www.pninastro.com
SUMMARY:ירח שחור במזל שור
DESCRIPTION:
URL:https://www.pninastro.com/event/%d7%99%d7%a8%d7%97-%d7%a9%d7%97%d7%95%d7%a8-%d7%91%d7%9e%d7%96%d7%9c-%d7%a9%d7%95%d7%a8-53/
END:VEVENT
BEGIN:VEVENT
DTSTART;TZID=Asia/Jerusalem:20211022T232400
DTEND;TZID=Asia/Jerusalem:20211023T105600
DTSTAMP:20260419T220751
CREATED:20210327T120434Z
LAST-MODIFIED:20210327T120434Z
UID:28808-1634945040-1634986560@www.pninastro.com
SUMMARY:ירח שחור במזל תאומים
DESCRIPTION:
URL:https://www.pninastro.com/event/%d7%99%d7%a8%d7%97-%d7%a9%d7%97%d7%95%d7%a8-%d7%91%d7%9e%d7%96%d7%9c-%d7%aa%d7%90%d7%95%d7%9e%d7%99%d7%9d-54/
END:VEVENT
BEGIN:VEVENT
DTSTART;TZID=Asia/Jerusalem:20211025T160900
DTEND;TZID=Asia/Jerusalem:20211025T225900
DTSTAMP:20260419T220751
CREATED:20210327T120541Z
LAST-MODIFIED:20210327T120541Z
UID:28810-1635178140-1635202740@www.pninastro.com
SUMMARY:ירח שחור במזל סרטן
DESCRIPTION:
URL:https://www.pninastro.com/event/%d7%99%d7%a8%d7%97-%d7%a9%d7%97%d7%95%d7%a8-%d7%91%d7%9e%d7%96%d7%9c-%d7%a1%d7%a8%d7%98%d7%9f-52/
END:VEVENT
BEGIN:VEVENT
DTSTART;TZID=Asia/Jerusalem:20211028T080000
DTEND;TZID=Asia/Jerusalem:20211028T110600
DTSTAMP:20260419T220751
CREATED:20210327T120643Z
LAST-MODIFIED:20210327T120643Z
UID:28812-1635408000-1635419160@www.pninastro.com
SUMMARY:ירח שחור במזל אריה
DESCRIPTION:
URL:https://www.pninastro.com/event/%d7%99%d7%a8%d7%97-%d7%a9%d7%97%d7%95%d7%a8-%d7%91%d7%9e%d7%96%d7%9c-%d7%90%d7%a8%d7%99%d7%94-56/
END:VEVENT
BEGIN:VEVENT
DTSTART;TZID=Asia/Jerusalem:20211030T090400
DTEND;TZID=Asia/Jerusalem:20211030T200800
DTSTAMP:20260419T220751
CREATED:20210327T120755Z
LAST-MODIFIED:20210327T120755Z
UID:28814-1635584640-1635624480@www.pninastro.com
SUMMARY:ירח שחור במזל בתולה
DESCRIPTION:
URL:https://www.pninastro.com/event/%d7%99%d7%a8%d7%97-%d7%a9%d7%97%d7%95%d7%a8-%d7%91%d7%9e%d7%96%d7%9c-%d7%91%d7%aa%d7%95%d7%9c%d7%94-53/
END:VEVENT
END:VCALENDAR