BEGIN:VCALENDAR
VERSION:2.0
PRODID:-//פנינה כץ - הורוסקופ שבועי - ECPv6.15.20//NONSGML v1.0//EN
CALSCALE:GREGORIAN
METHOD:PUBLISH
X-ORIGINAL-URL:https://www.pninastro.com
X-WR-CALDESC:Events for פנינה כץ - הורוסקופ שבועי
REFRESH-INTERVAL;VALUE=DURATION:PT1H
X-Robots-Tag:noindex
X-PUBLISHED-TTL:PT1H
BEGIN:VTIMEZONE
TZID:Asia/Jerusalem
BEGIN:DAYLIGHT
TZOFFSETFROM:+0200
TZOFFSETTO:+0300
TZNAME:IDT
DTSTART:20200327T000000
END:DAYLIGHT
BEGIN:STANDARD
TZOFFSETFROM:+0300
TZOFFSETTO:+0200
TZNAME:IST
DTSTART:20201024T230000
END:STANDARD
BEGIN:DAYLIGHT
TZOFFSETFROM:+0200
TZOFFSETTO:+0300
TZNAME:IDT
DTSTART:20210326T000000
END:DAYLIGHT
BEGIN:STANDARD
TZOFFSETFROM:+0300
TZOFFSETTO:+0200
TZNAME:IST
DTSTART:20211030T230000
END:STANDARD
BEGIN:DAYLIGHT
TZOFFSETFROM:+0200
TZOFFSETTO:+0300
TZNAME:IDT
DTSTART:20220325T000000
END:DAYLIGHT
BEGIN:STANDARD
TZOFFSETFROM:+0300
TZOFFSETTO:+0200
TZNAME:IST
DTSTART:20221029T230000
END:STANDARD
END:VTIMEZONE
BEGIN:VEVENT
DTSTART;TZID=Asia/Jerusalem:20211101T185900
DTEND;TZID=Asia/Jerusalem:20211102T011000
DTSTAMP:20260419T235430
CREATED:20210327T120924Z
LAST-MODIFIED:20210327T120924Z
UID:28816-1635793140-1635815400@www.pninastro.com
SUMMARY:ירח שחור במזל מאזניים
DESCRIPTION:
URL:https://www.pninastro.com/event/%d7%99%d7%a8%d7%97-%d7%a9%d7%97%d7%95%d7%a8-%d7%91%d7%9e%d7%96%d7%9c-%d7%9e%d7%90%d7%96%d7%a0%d7%99%d7%99%d7%9d-55/
END:VEVENT
BEGIN:VEVENT
DTSTART;TZID=Asia/Jerusalem:20211104T003100
DTEND;TZID=Asia/Jerusalem:20211104T025200
DTSTAMP:20260419T235430
CREATED:20210327T121107Z
LAST-MODIFIED:20210327T121107Z
UID:28819-1635985860-1635994320@www.pninastro.com
SUMMARY:ירח שחור במזל עקרב
DESCRIPTION:
URL:https://www.pninastro.com/event/%d7%99%d7%a8%d7%97-%d7%a9%d7%97%d7%95%d7%a8-%d7%91%d7%9e%d7%96%d7%9c-%d7%a2%d7%a7%d7%a8%d7%91-57/
END:VEVENT
BEGIN:VEVENT
DTSTART;TZID=Asia/Jerusalem:20211104T231500
DTEND;TZID=Asia/Jerusalem:20211104T231500
DTSTAMP:20260419T235430
CREATED:20210327T113739Z
LAST-MODIFIED:20210327T113739Z
UID:28777-1636067700-1636067700@www.pninastro.com
SUMMARY:מולד ירח במזל עקרב
DESCRIPTION:
URL:https://www.pninastro.com/event/%d7%9e%d7%95%d7%9c%d7%93-%d7%99%d7%a8%d7%97-%d7%91%d7%9e%d7%96%d7%9c-%d7%a2%d7%a7%d7%a8%d7%91-5/
END:VEVENT
BEGIN:VEVENT
DTSTART;TZID=Asia/Jerusalem:20211105T180100
DTEND;TZID=Asia/Jerusalem:20211106T025200
DTSTAMP:20260419T235430
CREATED:20210327T122202Z
LAST-MODIFIED:20210327T122202Z
UID:28821-1636135260-1636167120@www.pninastro.com
SUMMARY:ירח שחור במזל קשת
DESCRIPTION:
URL:https://www.pninastro.com/event/%d7%99%d7%a8%d7%97-%d7%a9%d7%97%d7%95%d7%a8-%d7%91%d7%9e%d7%96%d7%9c-%d7%a7%d7%a9%d7%aa-51/
END:VEVENT
BEGIN:VEVENT
DTSTART;TZID=Asia/Jerusalem:20211107T154600
DTEND;TZID=Asia/Jerusalem:20211108T030200
DTSTAMP:20260419T235430
CREATED:20210327T122307Z
LAST-MODIFIED:20210327T122307Z
UID:28823-1636299960-1636340520@www.pninastro.com
SUMMARY:ירח שחור במזל גדי
DESCRIPTION:
URL:https://www.pninastro.com/event/%d7%99%d7%a8%d7%97-%d7%a9%d7%97%d7%95%d7%a8-%d7%91%d7%9e%d7%96%d7%9c-%d7%92%d7%93%d7%99-54/
END:VEVENT
BEGIN:VEVENT
DTSTART;TZID=Asia/Jerusalem:20211109T194200
DTEND;TZID=Asia/Jerusalem:20211110T050200
DTSTAMP:20260419T235430
CREATED:20210327T122448Z
LAST-MODIFIED:20210327T122448Z
UID:28825-1636486920-1636520520@www.pninastro.com
SUMMARY:ירח שחור במזל דלי
DESCRIPTION:
URL:https://www.pninastro.com/event/%d7%99%d7%a8%d7%97-%d7%a9%d7%97%d7%95%d7%a8-%d7%91%d7%9e%d7%96%d7%9c-%d7%93%d7%9c%d7%99-54/
END:VEVENT
BEGIN:VEVENT
DTSTART;TZID=Asia/Jerusalem:20211111T215400
DTEND;TZID=Asia/Jerusalem:20211112T095300
DTSTAMP:20260419T235430
CREATED:20210327T122607Z
LAST-MODIFIED:20210327T122607Z
UID:28827-1636667640-1636710780@www.pninastro.com
SUMMARY:ירח שחור במזל דגים
DESCRIPTION:
URL:https://www.pninastro.com/event/%d7%99%d7%a8%d7%97-%d7%a9%d7%97%d7%95%d7%a8-%d7%91%d7%9e%d7%96%d7%9c-%d7%93%d7%92%d7%99%d7%9d-54/
END:VEVENT
BEGIN:VEVENT
DTSTART;TZID=Asia/Jerusalem:20211114T072900
DTEND;TZID=Asia/Jerusalem:20211114T174700
DTSTAMP:20260419T235430
CREATED:20210327T122706Z
LAST-MODIFIED:20210327T122706Z
UID:28829-1636874940-1636912020@www.pninastro.com
SUMMARY:ירח שחור במזל טלה
DESCRIPTION:
URL:https://www.pninastro.com/event/%d7%99%d7%a8%d7%97-%d7%a9%d7%97%d7%95%d7%a8-%d7%91%d7%9e%d7%96%d7%9c-%d7%98%d7%9c%d7%94-53/
END:VEVENT
BEGIN:VEVENT
DTSTART;TZID=Asia/Jerusalem:20211116T174000
DTEND;TZID=Asia/Jerusalem:20211117T041700
DTSTAMP:20260419T235430
CREATED:20210327T122813Z
LAST-MODIFIED:20210327T122813Z
UID:28831-1637084400-1637122620@www.pninastro.com
SUMMARY:ירח שחור במזל שור
DESCRIPTION:
URL:https://www.pninastro.com/event/%d7%99%d7%a8%d7%97-%d7%a9%d7%97%d7%95%d7%a8-%d7%91%d7%9e%d7%96%d7%9c-%d7%a9%d7%95%d7%a8-54/
END:VEVENT
BEGIN:VEVENT
DTSTART;TZID=Asia/Jerusalem:20211119T105600
DTEND;TZID=Asia/Jerusalem:20211119T163200
DTSTAMP:20260419T235430
CREATED:20210327T122946Z
LAST-MODIFIED:20210327T122946Z
UID:28833-1637319360-1637339520@www.pninastro.com
SUMMARY:ירח שחור במזל תאומים
DESCRIPTION:
URL:https://www.pninastro.com/event/%d7%99%d7%a8%d7%97-%d7%a9%d7%97%d7%95%d7%a8-%d7%91%d7%9e%d7%96%d7%9c-%d7%aa%d7%90%d7%95%d7%9e%d7%99%d7%9d-55/
END:VEVENT
BEGIN:VEVENT
DTSTART;TZID=Asia/Jerusalem:20211119T105900
DTEND;TZID=Asia/Jerusalem:20211119T105900
DTSTAMP:20260419T235430
CREATED:20210327T114729Z
LAST-MODIFIED:20210327T114729Z
UID:28787-1637319540-1637319540@www.pninastro.com
SUMMARY:ירח מלא במזל שור
DESCRIPTION:
URL:https://www.pninastro.com/event/%d7%99%d7%a8%d7%97-%d7%9e%d7%9c%d7%90-%d7%91%d7%9e%d7%96%d7%9c-%d7%a9%d7%95%d7%a8-4/
END:VEVENT
BEGIN:VEVENT
DTSTART;TZID=Asia/Jerusalem:20211119T110500
DTEND;TZID=Asia/Jerusalem:20211119T110500
DTSTAMP:20260419T235430
CREATED:20211115T180024Z
LAST-MODIFIED:20211115T180024Z
UID:31643-1637319900-1637319900@www.pninastro.com
SUMMARY:ליקוי ירח חלקי במזל שור
DESCRIPTION:
URL:https://www.pninastro.com/event/%d7%9c%d7%99%d7%a7%d7%95%d7%99-%d7%99%d7%a8%d7%97-%d7%97%d7%9c%d7%a7%d7%99-%d7%91%d7%9e%d7%96%d7%9c-%d7%a9%d7%95%d7%a8/
END:VEVENT
BEGIN:VEVENT
DTSTART;TZID=Asia/Jerusalem:20211121T175400
DTEND;TZID=Asia/Jerusalem:20211122T053200
DTSTAMP:20260419T235430
CREATED:20210327T123057Z
LAST-MODIFIED:20210327T123057Z
UID:28835-1637517240-1637559120@www.pninastro.com
SUMMARY:ירח שחור במזל סרטן
DESCRIPTION:
URL:https://www.pninastro.com/event/%d7%99%d7%a8%d7%97-%d7%a9%d7%97%d7%95%d7%a8-%d7%91%d7%9e%d7%96%d7%9c-%d7%a1%d7%a8%d7%98%d7%9f-53/
END:VEVENT
BEGIN:VEVENT
DTSTART;TZID=Asia/Jerusalem:20211124T073500
DTEND;TZID=Asia/Jerusalem:20211124T175700
DTSTAMP:20260419T235430
CREATED:20210327T123204Z
LAST-MODIFIED:20210327T123204Z
UID:28837-1637739300-1637776620@www.pninastro.com
SUMMARY:ירח שחור במזל אריה
DESCRIPTION:
URL:https://www.pninastro.com/event/%d7%99%d7%a8%d7%97-%d7%a9%d7%97%d7%95%d7%a8-%d7%91%d7%9e%d7%96%d7%9c-%d7%90%d7%a8%d7%99%d7%94-57/
END:VEVENT
BEGIN:VEVENT
DTSTART;TZID=Asia/Jerusalem:20211126T182600
DTEND;TZID=Asia/Jerusalem:20211127T041100
DTSTAMP:20260419T235430
CREATED:20210327T123313Z
LAST-MODIFIED:20210327T123313Z
UID:28839-1637951160-1637986260@www.pninastro.com
SUMMARY:ירח שחור במזל בתולה
DESCRIPTION:
URL:https://www.pninastro.com/event/%d7%99%d7%a8%d7%97-%d7%a9%d7%97%d7%95%d7%a8-%d7%91%d7%9e%d7%96%d7%9c-%d7%91%d7%aa%d7%95%d7%9c%d7%94-54/
END:VEVENT
BEGIN:VEVENT
DTSTART;TZID=Asia/Jerusalem:20211129T015200
DTEND;TZID=Asia/Jerusalem:20211129T105400
DTSTAMP:20260419T235430
CREATED:20210327T123416Z
LAST-MODIFIED:20210327T123416Z
UID:28841-1638150720-1638183240@www.pninastro.com
SUMMARY:ירח שחור במזל מאזניים
DESCRIPTION:
URL:https://www.pninastro.com/event/%d7%99%d7%a8%d7%97-%d7%a9%d7%97%d7%95%d7%a8-%d7%91%d7%9e%d7%96%d7%9c-%d7%9e%d7%90%d7%96%d7%a0%d7%99%d7%99%d7%9d-56/
END:VEVENT
END:VCALENDAR