BEGIN:VCALENDAR
VERSION:2.0
PRODID:-//פנינה כץ - הורוסקופ שבועי - ECPv6.15.20//NONSGML v1.0//EN
CALSCALE:GREGORIAN
METHOD:PUBLISH
X-WR-CALNAME:פנינה כץ - הורוסקופ שבועי
X-ORIGINAL-URL:https://www.pninastro.com
X-WR-CALDESC:Events for פנינה כץ - הורוסקופ שבועי
REFRESH-INTERVAL;VALUE=DURATION:PT1H
X-Robots-Tag:noindex
X-PUBLISHED-TTL:PT1H
BEGIN:VTIMEZONE
TZID:Asia/Jerusalem
BEGIN:DAYLIGHT
TZOFFSETFROM:+0200
TZOFFSETTO:+0300
TZNAME:IDT
DTSTART:20200327T000000
END:DAYLIGHT
BEGIN:STANDARD
TZOFFSETFROM:+0300
TZOFFSETTO:+0200
TZNAME:IST
DTSTART:20201024T230000
END:STANDARD
BEGIN:DAYLIGHT
TZOFFSETFROM:+0200
TZOFFSETTO:+0300
TZNAME:IDT
DTSTART:20210326T000000
END:DAYLIGHT
BEGIN:STANDARD
TZOFFSETFROM:+0300
TZOFFSETTO:+0200
TZNAME:IST
DTSTART:20211030T230000
END:STANDARD
BEGIN:DAYLIGHT
TZOFFSETFROM:+0200
TZOFFSETTO:+0300
TZNAME:IDT
DTSTART:20220325T000000
END:DAYLIGHT
BEGIN:STANDARD
TZOFFSETFROM:+0300
TZOFFSETTO:+0200
TZNAME:IST
DTSTART:20221029T230000
END:STANDARD
BEGIN:DAYLIGHT
TZOFFSETFROM:+0200
TZOFFSETTO:+0300
TZNAME:IDT
DTSTART:20230324T000000
END:DAYLIGHT
BEGIN:STANDARD
TZOFFSETFROM:+0300
TZOFFSETTO:+0200
TZNAME:IST
DTSTART:20231028T230000
END:STANDARD
END:VTIMEZONE
BEGIN:VEVENT
DTSTART;TZID=Asia/Jerusalem:20211201T062100
DTEND;TZID=Asia/Jerusalem:20211201T135500
DTSTAMP:20260420T013010
CREATED:20210327T123638Z
LAST-MODIFIED:20210327T123638Z
UID:28843-1638339660-1638366900@www.pninastro.com
SUMMARY:ירח שחור במזל עקרב
DESCRIPTION:
URL:https://www.pninastro.com/event/%d7%99%d7%a8%d7%97-%d7%a9%d7%97%d7%95%d7%a8-%d7%91%d7%9e%d7%96%d7%9c-%d7%a2%d7%a7%d7%a8%d7%91-58/
END:VEVENT
BEGIN:VEVENT
DTSTART;TZID=Asia/Jerusalem:20211203T072400
DTEND;TZID=Asia/Jerusalem:20211203T141200
DTSTAMP:20260420T013010
CREATED:20210327T123744Z
LAST-MODIFIED:20210327T123744Z
UID:28845-1638516240-1638540720@www.pninastro.com
SUMMARY:ירח שחור במזל קשת
DESCRIPTION:
URL:https://www.pninastro.com/event/%d7%99%d7%a8%d7%97-%d7%a9%d7%97%d7%95%d7%a8-%d7%91%d7%9e%d7%96%d7%9c-%d7%a7%d7%a9%d7%aa-52/
END:VEVENT
BEGIN:VEVENT
DTSTART;TZID=Asia/Jerusalem:20211204T094400
DTEND;TZID=Asia/Jerusalem:20211204T094400
DTSTAMP:20260420T013010
CREATED:20210327T113854Z
LAST-MODIFIED:20210327T113854Z
UID:28779-1638611040-1638611040@www.pninastro.com
SUMMARY:מולד ירח במזל קשת
DESCRIPTION:
URL:https://www.pninastro.com/event/%d7%9e%d7%95%d7%9c%d7%93-%d7%99%d7%a8%d7%97-%d7%91%d7%9e%d7%96%d7%9c-%d7%a7%d7%a9%d7%aa-5/
END:VEVENT
BEGIN:VEVENT
DTSTART;TZID=Asia/Jerusalem:20211205T071000
DTEND;TZID=Asia/Jerusalem:20211205T133000
DTSTAMP:20260420T013010
CREATED:20210327T123856Z
LAST-MODIFIED:20210327T123856Z
UID:28847-1638688200-1638711000@www.pninastro.com
SUMMARY:ירח שחור במזל גדי
DESCRIPTION:
URL:https://www.pninastro.com/event/%d7%99%d7%a8%d7%97-%d7%a9%d7%97%d7%95%d7%a8-%d7%91%d7%9e%d7%96%d7%9c-%d7%92%d7%93%d7%99-55/
END:VEVENT
BEGIN:VEVENT
DTSTART;TZID=Asia/Jerusalem:20211207T064100
DTEND;TZID=Asia/Jerusalem:20211207T134800
DTSTAMP:20260420T013010
CREATED:20210327T123947Z
LAST-MODIFIED:20210327T123947Z
UID:28849-1638859260-1638884880@www.pninastro.com
SUMMARY:ירח שחור במזל דלי
DESCRIPTION:
URL:https://www.pninastro.com/event/%d7%99%d7%a8%d7%97-%d7%a9%d7%97%d7%95%d7%a8-%d7%91%d7%9e%d7%96%d7%9c-%d7%93%d7%9c%d7%99-55/
END:VEVENT
BEGIN:VEVENT
DTSTART;TZID=Asia/Jerusalem:20211209T115800
DTEND;TZID=Asia/Jerusalem:20211209T165200
DTSTAMP:20260420T013010
CREATED:20210327T124051Z
LAST-MODIFIED:20210327T124051Z
UID:28851-1639051080-1639068720@www.pninastro.com
SUMMARY:ירח שחור במזל דגים
DESCRIPTION:
URL:https://www.pninastro.com/event/%d7%99%d7%a8%d7%97-%d7%a9%d7%97%d7%95%d7%a8-%d7%91%d7%9e%d7%96%d7%9c-%d7%93%d7%92%d7%99%d7%9d-55/
END:VEVENT
BEGIN:VEVENT
DTSTART;TZID=Asia/Jerusalem:20211211T213800
DTEND;TZID=Asia/Jerusalem:20211211T234500
DTSTAMP:20260420T013010
CREATED:20210327T124202Z
LAST-MODIFIED:20210327T124202Z
UID:28853-1639258680-1639266300@www.pninastro.com
SUMMARY:ירח שחור במזל טלה
DESCRIPTION:
URL:https://www.pninastro.com/event/%d7%99%d7%a8%d7%97-%d7%a9%d7%97%d7%95%d7%a8-%d7%91%d7%9e%d7%96%d7%9c-%d7%98%d7%9c%d7%94-54/
END:VEVENT
BEGIN:VEVENT
DTSTART;TZID=Asia/Jerusalem:20211214T045400
DTEND;TZID=Asia/Jerusalem:20211214T101000
DTSTAMP:20260420T013010
CREATED:20210327T124311Z
LAST-MODIFIED:20210327T124311Z
UID:28855-1639457640-1639476600@www.pninastro.com
SUMMARY:ירח שחור במזל שור
DESCRIPTION:
URL:https://www.pninastro.com/event/%d7%99%d7%a8%d7%97-%d7%a9%d7%97%d7%95%d7%a8-%d7%91%d7%9e%d7%96%d7%9c-%d7%a9%d7%95%d7%a8-55/
END:VEVENT
BEGIN:VEVENT
DTSTART;TZID=Asia/Jerusalem:20211216T181000
DTEND;TZID=Asia/Jerusalem:20211216T224200
DTSTAMP:20260420T013010
CREATED:20210327T124423Z
LAST-MODIFIED:20210327T124423Z
UID:28857-1639678200-1639694520@www.pninastro.com
SUMMARY:ירח שחור במזל תאומים
DESCRIPTION:
URL:https://www.pninastro.com/event/%d7%99%d7%a8%d7%97-%d7%a9%d7%97%d7%95%d7%a8-%d7%91%d7%9e%d7%96%d7%9c-%d7%aa%d7%90%d7%95%d7%9e%d7%99%d7%9d-56/
END:VEVENT
BEGIN:VEVENT
DTSTART;TZID=Asia/Jerusalem:20211219T063600
DTEND;TZID=Asia/Jerusalem:20211219T063600
DTSTAMP:20260420T013010
CREATED:20210327T114847Z
LAST-MODIFIED:20210327T114847Z
UID:28789-1639895760-1639895760@www.pninastro.com
SUMMARY:ירח מלא במזל תאומים
DESCRIPTION:
URL:https://www.pninastro.com/event/%d7%99%d7%a8%d7%97-%d7%9e%d7%9c%d7%90-%d7%91%d7%9e%d7%96%d7%9c-%d7%aa%d7%90%d7%95%d7%9e%d7%99%d7%9d-5/
END:VEVENT
BEGIN:VEVENT
DTSTART;TZID=Asia/Jerusalem:20211219T080000
DTEND;TZID=Asia/Jerusalem:20220129T170000
DTSTAMP:20260420T013010
CREATED:20210327T112931Z
LAST-MODIFIED:20210327T112931Z
UID:28770-1639900800-1643475600@www.pninastro.com
SUMMARY:ונוס בנסיגה במזל גדי
DESCRIPTION:
URL:https://www.pninastro.com/event/%d7%95%d7%a0%d7%95%d7%a1-%d7%91%d7%a0%d7%a1%d7%99%d7%92%d7%94-%d7%91%d7%9e%d7%96%d7%9c-%d7%92%d7%93%d7%99/
END:VEVENT
BEGIN:VEVENT
DTSTART;TZID=Asia/Jerusalem:20211219T080400
DTEND;TZID=Asia/Jerusalem:20211219T114100
DTSTAMP:20260420T013010
CREATED:20210327T124520Z
LAST-MODIFIED:20210327T124520Z
UID:28859-1639901040-1639914060@www.pninastro.com
SUMMARY:ירח שחור במזל סרטן
DESCRIPTION:
URL:https://www.pninastro.com/event/%d7%99%d7%a8%d7%97-%d7%a9%d7%97%d7%95%d7%a8-%d7%91%d7%9e%d7%96%d7%9c-%d7%a1%d7%a8%d7%98%d7%9f-54/
END:VEVENT
BEGIN:VEVENT
DTSTART;TZID=Asia/Jerusalem:20211221T164400
DTEND;TZID=Asia/Jerusalem:20211221T235300
DTSTAMP:20260420T013010
CREATED:20210327T124705Z
LAST-MODIFIED:20210327T124705Z
UID:28862-1640105040-1640130780@www.pninastro.com
SUMMARY:ירח שחור במזל אריה
DESCRIPTION:
URL:https://www.pninastro.com/event/%d7%99%d7%a8%d7%97-%d7%a9%d7%97%d7%95%d7%a8-%d7%91%d7%9e%d7%96%d7%9c-%d7%90%d7%a8%d7%99%d7%94-58/
END:VEVENT
BEGIN:VEVENT
DTSTART;TZID=Asia/Jerusalem:20211224T084100
DTEND;TZID=Asia/Jerusalem:20211224T102300
DTSTAMP:20260420T013010
CREATED:20210327T124802Z
LAST-MODIFIED:20210327T124802Z
UID:28864-1640335260-1640341380@www.pninastro.com
SUMMARY:ירח שחור במזל בתולה
DESCRIPTION:
URL:https://www.pninastro.com/event/%d7%99%d7%a8%d7%97-%d7%a9%d7%97%d7%95%d7%a8-%d7%91%d7%9e%d7%96%d7%9c-%d7%91%d7%aa%d7%95%d7%9c%d7%94-55/
END:VEVENT
BEGIN:VEVENT
DTSTART;TZID=Asia/Jerusalem:20211226T103000
DTEND;TZID=Asia/Jerusalem:20211226T182300
DTSTAMP:20260420T013010
CREATED:20210327T124904Z
LAST-MODIFIED:20210327T124904Z
UID:28866-1640514600-1640542980@www.pninastro.com
SUMMARY:ירח שחור במזל מאזניים
DESCRIPTION:
URL:https://www.pninastro.com/event/%d7%99%d7%a8%d7%97-%d7%a9%d7%97%d7%95%d7%a8-%d7%91%d7%9e%d7%96%d7%9c-%d7%9e%d7%90%d7%96%d7%a0%d7%99%d7%99%d7%9d-57/
END:VEVENT
BEGIN:VEVENT
DTSTART;TZID=Asia/Jerusalem:20211228T231200
DTEND;TZID=Asia/Jerusalem:20211228T231500
DTSTAMP:20260420T013010
CREATED:20210327T125039Z
LAST-MODIFIED:20210327T125039Z
UID:28868-1640733120-1640733300@www.pninastro.com
SUMMARY:ירח שחור במזל עקרב
DESCRIPTION:
URL:https://www.pninastro.com/event/%d7%99%d7%a8%d7%97-%d7%a9%d7%97%d7%95%d7%a8-%d7%91%d7%9e%d7%96%d7%9c-%d7%a2%d7%a7%d7%a8%d7%91-59/
END:VEVENT
BEGIN:VEVENT
DTSTART;TZID=Asia/Jerusalem:20211230T190900
DTEND;TZID=Asia/Jerusalem:20211231T010800
DTSTAMP:20260420T013010
CREATED:20210327T125136Z
LAST-MODIFIED:20210327T125136Z
UID:28870-1640891340-1640912880@www.pninastro.com
SUMMARY:ירח שחור במזל קשת
DESCRIPTION:
URL:https://www.pninastro.com/event/%d7%99%d7%a8%d7%97-%d7%a9%d7%97%d7%95%d7%a8-%d7%91%d7%9e%d7%96%d7%9c-%d7%a7%d7%a9%d7%aa-53/
END:VEVENT
END:VCALENDAR