BEGIN:VCALENDAR
VERSION:2.0
PRODID:-//פנינה כץ - הורוסקופ שבועי - ECPv6.15.20//NONSGML v1.0//EN
CALSCALE:GREGORIAN
METHOD:PUBLISH
X-WR-CALNAME:פנינה כץ - הורוסקופ שבועי
X-ORIGINAL-URL:https://www.pninastro.com
X-WR-CALDESC:Events for פנינה כץ - הורוסקופ שבועי
REFRESH-INTERVAL;VALUE=DURATION:PT1H
X-Robots-Tag:noindex
X-PUBLISHED-TTL:PT1H
BEGIN:VTIMEZONE
TZID:Asia/Jerusalem
BEGIN:DAYLIGHT
TZOFFSETFROM:+0200
TZOFFSETTO:+0300
TZNAME:IDT
DTSTART:20200327T000000
END:DAYLIGHT
BEGIN:STANDARD
TZOFFSETFROM:+0300
TZOFFSETTO:+0200
TZNAME:IST
DTSTART:20201024T230000
END:STANDARD
BEGIN:DAYLIGHT
TZOFFSETFROM:+0200
TZOFFSETTO:+0300
TZNAME:IDT
DTSTART:20210326T000000
END:DAYLIGHT
BEGIN:STANDARD
TZOFFSETFROM:+0300
TZOFFSETTO:+0200
TZNAME:IST
DTSTART:20211030T230000
END:STANDARD
BEGIN:DAYLIGHT
TZOFFSETFROM:+0200
TZOFFSETTO:+0300
TZNAME:IDT
DTSTART:20220325T000000
END:DAYLIGHT
BEGIN:STANDARD
TZOFFSETFROM:+0300
TZOFFSETTO:+0200
TZNAME:IST
DTSTART:20221029T230000
END:STANDARD
BEGIN:DAYLIGHT
TZOFFSETFROM:+0200
TZOFFSETTO:+0300
TZNAME:IDT
DTSTART:20230324T000000
END:DAYLIGHT
BEGIN:STANDARD
TZOFFSETFROM:+0300
TZOFFSETTO:+0200
TZNAME:IST
DTSTART:20231028T230000
END:STANDARD
END:VTIMEZONE
BEGIN:VEVENT
DTSTART;TZID=Asia/Jerusalem:20211219T080000
DTEND;TZID=Asia/Jerusalem:20220129T170000
DTSTAMP:20260420T030738
CREATED:20210327T112931Z
LAST-MODIFIED:20210327T112931Z
UID:28770-1639900800-1643475600@www.pninastro.com
SUMMARY:ונוס בנסיגה במזל גדי
DESCRIPTION:
URL:https://www.pninastro.com/event/%d7%95%d7%a0%d7%95%d7%a1-%d7%91%d7%a0%d7%a1%d7%99%d7%92%d7%94-%d7%91%d7%9e%d7%96%d7%9c-%d7%92%d7%93%d7%99/
END:VEVENT
BEGIN:VEVENT
DTSTART;TZID=Asia/Jerusalem:20220101T101300
DTEND;TZID=Asia/Jerusalem:20220102T010100
DTSTAMP:20260420T030738
CREATED:20210327T125255Z
LAST-MODIFIED:20210327T125255Z
UID:28872-1641031980-1641085260@www.pninastro.com
SUMMARY:ירח שחור במזל גדי
DESCRIPTION:
URL:https://www.pninastro.com/event/%d7%99%d7%a8%d7%97-%d7%a9%d7%97%d7%95%d7%a8-%d7%91%d7%9e%d7%96%d7%9c-%d7%92%d7%93%d7%99-56/
END:VEVENT
BEGIN:VEVENT
DTSTART;TZID=Asia/Jerusalem:20220102T203400
DTEND;TZID=Asia/Jerusalem:20220102T203400
DTSTAMP:20260420T030738
CREATED:20210327T114026Z
LAST-MODIFIED:20210327T114026Z
UID:28781-1641155640-1641155640@www.pninastro.com
SUMMARY:מולד ירח במזל גדי
DESCRIPTION:
URL:https://www.pninastro.com/event/%d7%9e%d7%95%d7%9c%d7%93-%d7%99%d7%a8%d7%97-%d7%91%d7%9e%d7%96%d7%9c-%d7%92%d7%93%d7%99-5/
END:VEVENT
BEGIN:VEVENT
DTSTART;TZID=Asia/Jerusalem:20220103T181200
DTEND;TZID=Asia/Jerusalem:20220104T004300
DTSTAMP:20260420T030738
CREATED:20210327T125421Z
LAST-MODIFIED:20210327T125421Z
UID:28874-1641233520-1641256980@www.pninastro.com
SUMMARY:ירח שחור במזל דלי
DESCRIPTION:
URL:https://www.pninastro.com/event/%d7%99%d7%a8%d7%97-%d7%a9%d7%97%d7%95%d7%a8-%d7%91%d7%9e%d7%96%d7%9c-%d7%93%d7%9c%d7%99-56/
END:VEVENT
BEGIN:VEVENT
DTSTART;TZID=Asia/Jerusalem:20220105T024400
DTEND;TZID=Asia/Jerusalem:20220106T021600
DTSTAMP:20260420T030738
CREATED:20210626T094924Z
LAST-MODIFIED:20210626T094924Z
UID:29901-1641350640-1641435360@www.pninastro.com
SUMMARY:ירח שחור במזל דגים
DESCRIPTION:
URL:https://www.pninastro.com/event/%d7%99%d7%a8%d7%97-%d7%a9%d7%97%d7%95%d7%a8-%d7%91%d7%9e%d7%96%d7%9c-%d7%93%d7%92%d7%99%d7%9d-56/
END:VEVENT
BEGIN:VEVENT
DTSTART;TZID=Asia/Jerusalem:20220108T001300
DTEND;TZID=Asia/Jerusalem:20220108T072500
DTSTAMP:20260420T030738
CREATED:20210626T095218Z
LAST-MODIFIED:20210626T095218Z
UID:29904-1641600780-1641626700@www.pninastro.com
SUMMARY:ירח שחור במזל טלה
DESCRIPTION:
URL:https://www.pninastro.com/event/%d7%99%d7%a8%d7%97-%d7%a9%d7%97%d7%95%d7%a8-%d7%91%d7%9e%d7%96%d7%9c-%d7%98%d7%9c%d7%94-55/
END:VEVENT
BEGIN:VEVENT
DTSTART;TZID=Asia/Jerusalem:20220110T091200
DTEND;TZID=Asia/Jerusalem:20220110T164600
DTSTAMP:20260420T030738
CREATED:20210626T095307Z
LAST-MODIFIED:20210626T095307Z
UID:29906-1641805920-1641833160@www.pninastro.com
SUMMARY:ירח שחור במזל שור
DESCRIPTION:
URL:https://www.pninastro.com/event/%d7%99%d7%a8%d7%97-%d7%a9%d7%97%d7%95%d7%a8-%d7%91%d7%9e%d7%96%d7%9c-%d7%a9%d7%95%d7%a8-56/
END:VEVENT
BEGIN:VEVENT
DTSTART;TZID=Asia/Jerusalem:20220112T212800
DTEND;TZID=Asia/Jerusalem:20220113T050700
DTSTAMP:20260420T030738
CREATED:20210626T095455Z
LAST-MODIFIED:20210626T095455Z
UID:29908-1642022880-1642050420@www.pninastro.com
SUMMARY:ירח שחור במזל תאומים
DESCRIPTION:
URL:https://www.pninastro.com/event/%d7%99%d7%a8%d7%97-%d7%a9%d7%97%d7%95%d7%a8-%d7%91%d7%9e%d7%96%d7%9c-%d7%aa%d7%90%d7%95%d7%9e%d7%99%d7%9d-57/
END:VEVENT
BEGIN:VEVENT
DTSTART;TZID=Asia/Jerusalem:20220114T080000
DTEND;TZID=Asia/Jerusalem:20220204T170000
DTSTAMP:20260420T030738
CREATED:20210327T113222Z
LAST-MODIFIED:20210327T113222Z
UID:28773-1642147200-1643994000@www.pninastro.com
SUMMARY:מרקורי בנסיגה במזל דלי
DESCRIPTION:
URL:https://www.pninastro.com/event/%d7%9e%d7%a8%d7%a7%d7%95%d7%a8%d7%99-%d7%91%d7%a0%d7%a1%d7%99%d7%92%d7%94-%d7%91%d7%9e%d7%96%d7%9c-%d7%93%d7%9c%d7%99-2/
END:VEVENT
BEGIN:VEVENT
DTSTART;TZID=Asia/Jerusalem:20220115T042100
DTEND;TZID=Asia/Jerusalem:20220115T181000
DTSTAMP:20260420T030738
CREATED:20210626T095600Z
LAST-MODIFIED:20210626T095600Z
UID:29910-1642220460-1642270200@www.pninastro.com
SUMMARY:ירח שחור במזל סרטן
DESCRIPTION:
URL:https://www.pninastro.com/event/%d7%99%d7%a8%d7%97-%d7%a9%d7%97%d7%95%d7%a8-%d7%91%d7%9e%d7%96%d7%9c-%d7%a1%d7%a8%d7%98%d7%9f-55/
END:VEVENT
BEGIN:VEVENT
DTSTART;TZID=Asia/Jerusalem:20220118T014800
DTEND;TZID=Asia/Jerusalem:20220118T014800
DTSTAMP:20260420T030738
CREATED:20210327T115025Z
LAST-MODIFIED:20210327T115025Z
UID:28791-1642470480-1642470480@www.pninastro.com
SUMMARY:ירח מלא במזל במזל סרטן
DESCRIPTION:
URL:https://www.pninastro.com/event/%d7%99%d7%a8%d7%97-%d7%9e%d7%9c%d7%90-%d7%91%d7%9e%d7%96%d7%9c-%d7%91%d7%9e%d7%96%d7%9c-%d7%a1%d7%a8%d7%98%d7%9f/
END:VEVENT
BEGIN:VEVENT
DTSTART;TZID=Asia/Jerusalem:20220118T014800
DTEND;TZID=Asia/Jerusalem:20220118T060200
DTSTAMP:20260420T030738
CREATED:20210626T095705Z
LAST-MODIFIED:20210626T095705Z
UID:29912-1642470480-1642485720@www.pninastro.com
SUMMARY:ירח שחור במזל אריה
DESCRIPTION:
URL:https://www.pninastro.com/event/%d7%99%d7%a8%d7%97-%d7%a9%d7%97%d7%95%d7%a8-%d7%91%d7%9e%d7%96%d7%9c-%d7%90%d7%a8%d7%99%d7%94-59/
END:VEVENT
BEGIN:VEVENT
DTSTART;TZID=Asia/Jerusalem:20220120T101500
DTEND;TZID=Asia/Jerusalem:20220120T160100
DTSTAMP:20260420T030738
CREATED:20210626T100004Z
LAST-MODIFIED:20210626T100004Z
UID:29914-1642673700-1642694460@www.pninastro.com
SUMMARY:ירח שחור במזל בתולה
DESCRIPTION:
URL:https://www.pninastro.com/event/%d7%99%d7%a8%d7%97-%d7%a9%d7%97%d7%95%d7%a8-%d7%91%d7%9e%d7%96%d7%9c-%d7%91%d7%aa%d7%95%d7%9c%d7%94-57/
END:VEVENT
BEGIN:VEVENT
DTSTART;TZID=Asia/Jerusalem:20220122T214500
DTEND;TZID=Asia/Jerusalem:20220123T000200
DTSTAMP:20260420T030738
CREATED:20210626T100312Z
LAST-MODIFIED:20210626T100312Z
UID:29917-1642887900-1642896120@www.pninastro.com
SUMMARY:ירח שחור במזל מאזניים
DESCRIPTION:
URL:https://www.pninastro.com/event/%d7%99%d7%a8%d7%97-%d7%a9%d7%97%d7%95%d7%a8-%d7%91%d7%9e%d7%96%d7%9c-%d7%9e%d7%90%d7%96%d7%a0%d7%99%d7%99%d7%9d-58/
END:VEVENT
BEGIN:VEVENT
DTSTART;TZID=Asia/Jerusalem:20220125T000000
DTEND;TZID=Asia/Jerusalem:20220125T055600
DTSTAMP:20260420T030738
CREATED:20210626T100423Z
LAST-MODIFIED:20210626T100423Z
UID:29919-1643068800-1643090160@www.pninastro.com
SUMMARY:ירח שחור במזל עקרב
DESCRIPTION:
URL:https://www.pninastro.com/event/%d7%99%d7%a8%d7%97-%d7%a9%d7%97%d7%95%d7%a8-%d7%91%d7%9e%d7%96%d7%9c-%d7%a2%d7%a7%d7%a8%d7%91-60/
END:VEVENT
BEGIN:VEVENT
DTSTART;TZID=Asia/Jerusalem:20220127T072800
DTEND;TZID=Asia/Jerusalem:20220127T093400
DTSTAMP:20260420T030738
CREATED:20210626T100539Z
LAST-MODIFIED:20210626T100539Z
UID:29921-1643268480-1643276040@www.pninastro.com
SUMMARY:ירח שחור במזל קשת
DESCRIPTION:
URL:https://www.pninastro.com/event/%d7%99%d7%a8%d7%97-%d7%a9%d7%97%d7%95%d7%a8-%d7%91%d7%9e%d7%96%d7%9c-%d7%a7%d7%a9%d7%aa-54/
END:VEVENT
BEGIN:VEVENT
DTSTART;TZID=Asia/Jerusalem:20220128T205600
DTEND;TZID=Asia/Jerusalem:20220129T110800
DTSTAMP:20260420T030738
CREATED:20210626T100649Z
LAST-MODIFIED:20210626T100649Z
UID:29923-1643403360-1643454480@www.pninastro.com
SUMMARY:ירח שחור במזל גדי
DESCRIPTION:
URL:https://www.pninastro.com/event/%d7%99%d7%a8%d7%97-%d7%a9%d7%97%d7%95%d7%a8-%d7%91%d7%9e%d7%96%d7%9c-%d7%92%d7%93%d7%99-57/
END:VEVENT
BEGIN:VEVENT
DTSTART;TZID=Asia/Jerusalem:20220131T063500
DTEND;TZID=Asia/Jerusalem:20220131T114200
DTSTAMP:20260420T030738
CREATED:20210626T100755Z
LAST-MODIFIED:20210626T100755Z
UID:29925-1643610900-1643629320@www.pninastro.com
SUMMARY:ירח שחור במזל דלי
DESCRIPTION:
URL:https://www.pninastro.com/event/%d7%99%d7%a8%d7%97-%d7%a9%d7%97%d7%95%d7%a8-%d7%91%d7%9e%d7%96%d7%9c-%d7%93%d7%9c%d7%99-57/
END:VEVENT
END:VCALENDAR