BEGIN:VCALENDAR
VERSION:2.0
PRODID:-//פנינה כץ - הורוסקופ שבועי - ECPv6.15.20//NONSGML v1.0//EN
CALSCALE:GREGORIAN
METHOD:PUBLISH
X-WR-CALNAME:פנינה כץ - הורוסקופ שבועי
X-ORIGINAL-URL:https://www.pninastro.com
X-WR-CALDESC:Events for פנינה כץ - הורוסקופ שבועי
REFRESH-INTERVAL;VALUE=DURATION:PT1H
X-Robots-Tag:noindex
X-PUBLISHED-TTL:PT1H
BEGIN:VTIMEZONE
TZID:Asia/Jerusalem
BEGIN:DAYLIGHT
TZOFFSETFROM:+0200
TZOFFSETTO:+0300
TZNAME:IDT
DTSTART:20210326T000000
END:DAYLIGHT
BEGIN:STANDARD
TZOFFSETFROM:+0300
TZOFFSETTO:+0200
TZNAME:IST
DTSTART:20211030T230000
END:STANDARD
BEGIN:DAYLIGHT
TZOFFSETFROM:+0200
TZOFFSETTO:+0300
TZNAME:IDT
DTSTART:20220325T000000
END:DAYLIGHT
BEGIN:STANDARD
TZOFFSETFROM:+0300
TZOFFSETTO:+0200
TZNAME:IST
DTSTART:20221029T230000
END:STANDARD
BEGIN:DAYLIGHT
TZOFFSETFROM:+0200
TZOFFSETTO:+0300
TZNAME:IDT
DTSTART:20230324T000000
END:DAYLIGHT
BEGIN:STANDARD
TZOFFSETFROM:+0300
TZOFFSETTO:+0200
TZNAME:IST
DTSTART:20231028T230000
END:STANDARD
END:VTIMEZONE
BEGIN:VEVENT
DTSTART;TZID=Asia/Jerusalem:20220114T080000
DTEND;TZID=Asia/Jerusalem:20220204T170000
DTSTAMP:20260420T045329
CREATED:20210327T113222Z
LAST-MODIFIED:20210327T113222Z
UID:28773-1642147200-1643994000@www.pninastro.com
SUMMARY:מרקורי בנסיגה במזל דלי
DESCRIPTION:
URL:https://www.pninastro.com/event/%d7%9e%d7%a8%d7%a7%d7%95%d7%a8%d7%99-%d7%91%d7%a0%d7%a1%d7%99%d7%92%d7%94-%d7%91%d7%9e%d7%96%d7%9c-%d7%93%d7%9c%d7%99-2/
END:VEVENT
BEGIN:VEVENT
DTSTART;TZID=Asia/Jerusalem:20220201T074700
DTEND;TZID=Asia/Jerusalem:20220201T074700
DTSTAMP:20260420T045329
CREATED:20210327T114249Z
LAST-MODIFIED:20210327T114249Z
UID:28783-1643701620-1643701620@www.pninastro.com
SUMMARY:מולד ירח במזל דלי
DESCRIPTION:
URL:https://www.pninastro.com/event/%d7%9e%d7%95%d7%9c%d7%93-%d7%99%d7%a8%d7%97-%d7%91%d7%9e%d7%96%d7%9c-%d7%93%d7%9c%d7%99-3/
END:VEVENT
BEGIN:VEVENT
DTSTART;TZID=Asia/Jerusalem:20220201T125900
DTEND;TZID=Asia/Jerusalem:20220202T125900
DTSTAMP:20260420T045329
CREATED:20210626T100935Z
LAST-MODIFIED:20210626T100935Z
UID:29927-1643720340-1643806740@www.pninastro.com
SUMMARY:ירח שחור במזל דגים
DESCRIPTION:
URL:https://www.pninastro.com/event/%d7%99%d7%a8%d7%97-%d7%a9%d7%97%d7%95%d7%a8-%d7%91%d7%9e%d7%96%d7%9c-%d7%93%d7%92%d7%99%d7%9d-57/
END:VEVENT
BEGIN:VEVENT
DTSTART;TZID=Asia/Jerusalem:20220204T113100
DTEND;TZID=Asia/Jerusalem:20220204T165600
DTSTAMP:20260420T045329
CREATED:20210626T101046Z
LAST-MODIFIED:20210626T101046Z
UID:29929-1643974260-1643993760@www.pninastro.com
SUMMARY:ירח שחור במזל טלה
DESCRIPTION:
URL:https://www.pninastro.com/event/%d7%99%d7%a8%d7%97-%d7%a9%d7%97%d7%95%d7%a8-%d7%91%d7%9e%d7%96%d7%9c-%d7%98%d7%9c%d7%94-56/
END:VEVENT
BEGIN:VEVENT
DTSTART;TZID=Asia/Jerusalem:20220206T191100
DTEND;TZID=Asia/Jerusalem:20220207T005100
DTSTAMP:20260420T045329
CREATED:20210626T101709Z
LAST-MODIFIED:20210626T101709Z
UID:29932-1644174660-1644195060@www.pninastro.com
SUMMARY:ירח שחור במזל שור
DESCRIPTION:
URL:https://www.pninastro.com/event/%d7%99%d7%a8%d7%97-%d7%a9%d7%97%d7%95%d7%a8-%d7%91%d7%9e%d7%96%d7%9c-%d7%a9%d7%95%d7%a8-57/
END:VEVENT
BEGIN:VEVENT
DTSTART;TZID=Asia/Jerusalem:20220209T063700
DTEND;TZID=Asia/Jerusalem:20220209T122600
DTSTAMP:20260420T045329
CREATED:20210626T101849Z
LAST-MODIFIED:20210626T101849Z
UID:29934-1644388620-1644409560@www.pninastro.com
SUMMARY:ירח שחור במזל תאומים
DESCRIPTION:
URL:https://www.pninastro.com/event/%d7%99%d7%a8%d7%97-%d7%a9%d7%97%d7%95%d7%a8-%d7%91%d7%9e%d7%96%d7%9c-%d7%aa%d7%90%d7%95%d7%9e%d7%99%d7%9d-58/
END:VEVENT
BEGIN:VEVENT
DTSTART;TZID=Asia/Jerusalem:20220211T102100
DTEND;TZID=Asia/Jerusalem:20220212T012600
DTSTAMP:20260420T045329
CREATED:20210626T102001Z
LAST-MODIFIED:20210626T102001Z
UID:29936-1644574860-1644629160@www.pninastro.com
SUMMARY:ירח שחור במזל סרטן
DESCRIPTION:
URL:https://www.pninastro.com/event/%d7%99%d7%a8%d7%97-%d7%a9%d7%97%d7%95%d7%a8-%d7%91%d7%9e%d7%96%d7%9c-%d7%a1%d7%a8%d7%98%d7%9f-56/
END:VEVENT
BEGIN:VEVENT
DTSTART;TZID=Asia/Jerusalem:20220214T122600
DTEND;TZID=Asia/Jerusalem:20220214T131600
DTSTAMP:20260420T045329
CREATED:20210626T102121Z
LAST-MODIFIED:20210626T102121Z
UID:29938-1644841560-1644844560@www.pninastro.com
SUMMARY:ירח שחור במזל אריה
DESCRIPTION:
URL:https://www.pninastro.com/event/%d7%99%d7%a8%d7%97-%d7%a9%d7%97%d7%95%d7%a8-%d7%91%d7%9e%d7%96%d7%9c-%d7%90%d7%a8%d7%99%d7%94-60/
END:VEVENT
BEGIN:VEVENT
DTSTART;TZID=Asia/Jerusalem:20220216T185500
DTEND;TZID=Asia/Jerusalem:20220216T224200
DTSTAMP:20260420T045329
CREATED:20210626T102219Z
LAST-MODIFIED:20210626T102219Z
UID:29940-1645037700-1645051320@www.pninastro.com
SUMMARY:ירח שחור במזל בתולה
DESCRIPTION:
URL:https://www.pninastro.com/event/%d7%99%d7%a8%d7%97-%d7%a9%d7%97%d7%95%d7%a8-%d7%91%d7%9e%d7%96%d7%9c-%d7%91%d7%aa%d7%95%d7%9c%d7%94-58/
END:VEVENT
BEGIN:VEVENT
DTSTART;TZID=Asia/Jerusalem:20220216T185800
DTEND;TZID=Asia/Jerusalem:20220216T185800
DTSTAMP:20260420T045329
CREATED:20210626T110950Z
LAST-MODIFIED:20210626T110950Z
UID:29992-1645037880-1645037880@www.pninastro.com
SUMMARY:ירח מלא במזל אריה
DESCRIPTION:
URL:https://www.pninastro.com/event/%d7%99%d7%a8%d7%97-%d7%9e%d7%9c%d7%90-%d7%91%d7%9e%d7%96%d7%9c-%d7%90%d7%a8%d7%99%d7%94-3/
END:VEVENT
BEGIN:VEVENT
DTSTART;TZID=Asia/Jerusalem:20220219T011000
DTEND;TZID=Asia/Jerusalem:20220219T055000
DTSTAMP:20260420T045329
CREATED:20210626T102318Z
LAST-MODIFIED:20210626T102318Z
UID:29942-1645233000-1645249800@www.pninastro.com
SUMMARY:ירח שחור במזל מאזניים
DESCRIPTION:
URL:https://www.pninastro.com/event/%d7%99%d7%a8%d7%97-%d7%a9%d7%97%d7%95%d7%a8-%d7%91%d7%9e%d7%96%d7%9c-%d7%9e%d7%90%d7%96%d7%a0%d7%99%d7%99%d7%9d-59/
END:VEVENT
BEGIN:VEVENT
DTSTART;TZID=Asia/Jerusalem:20220221T065200
DTEND;TZID=Asia/Jerusalem:20220221T111800
DTSTAMP:20260420T045329
CREATED:20210626T102416Z
LAST-MODIFIED:20210626T102416Z
UID:29944-1645426320-1645442280@www.pninastro.com
SUMMARY:ירח שחור במזל עקרב
DESCRIPTION:
URL:https://www.pninastro.com/event/%d7%99%d7%a8%d7%97-%d7%a9%d7%97%d7%95%d7%a8-%d7%91%d7%9e%d7%96%d7%9c-%d7%a2%d7%a7%d7%a8%d7%91-61/
END:VEVENT
BEGIN:VEVENT
DTSTART;TZID=Asia/Jerusalem:20220223T111500
DTEND;TZID=Asia/Jerusalem:20220223T152800
DTSTAMP:20260420T045329
CREATED:20210626T102643Z
LAST-MODIFIED:20210626T102643Z
UID:29946-1645614900-1645630080@www.pninastro.com
SUMMARY:ירח שחור במזל קשת
DESCRIPTION:
URL:https://www.pninastro.com/event/%d7%99%d7%a8%d7%97-%d7%a9%d7%97%d7%95%d7%a8-%d7%91%d7%9e%d7%96%d7%9c-%d7%a7%d7%a9%d7%aa-55/
END:VEVENT
BEGIN:VEVENT
DTSTART;TZID=Asia/Jerusalem:20220225T052100
DTEND;TZID=Asia/Jerusalem:20220225T182600
DTSTAMP:20260420T045329
CREATED:20210626T102755Z
LAST-MODIFIED:20210626T102755Z
UID:29948-1645766460-1645813560@www.pninastro.com
SUMMARY:ירח שחור במזל גדי
DESCRIPTION:
URL:https://www.pninastro.com/event/%d7%99%d7%a8%d7%97-%d7%a9%d7%97%d7%95%d7%a8-%d7%91%d7%9e%d7%96%d7%9c-%d7%92%d7%93%d7%99-58/
END:VEVENT
BEGIN:VEVENT
DTSTART;TZID=Asia/Jerusalem:20220227T164100
DTEND;TZID=Asia/Jerusalem:20220227T203500
DTSTAMP:20260420T045329
CREATED:20210626T102903Z
LAST-MODIFIED:20210626T102903Z
UID:29950-1645980060-1645994100@www.pninastro.com
SUMMARY:ירח שחור במזל דלי
DESCRIPTION:
URL:https://www.pninastro.com/event/%d7%99%d7%a8%d7%97-%d7%a9%d7%97%d7%95%d7%a8-%d7%91%d7%9e%d7%96%d7%9c-%d7%93%d7%9c%d7%99-58/
END:VEVENT
END:VCALENDAR