BEGIN:VCALENDAR
VERSION:2.0
PRODID:-//פנינה כץ - הורוסקופ שבועי - ECPv6.15.20//NONSGML v1.0//EN
CALSCALE:GREGORIAN
METHOD:PUBLISH
X-ORIGINAL-URL:https://www.pninastro.com
X-WR-CALDESC:Events for פנינה כץ - הורוסקופ שבועי
REFRESH-INTERVAL;VALUE=DURATION:PT1H
X-Robots-Tag:noindex
X-PUBLISHED-TTL:PT1H
BEGIN:VTIMEZONE
TZID:Asia/Jerusalem
BEGIN:DAYLIGHT
TZOFFSETFROM:+0200
TZOFFSETTO:+0300
TZNAME:IDT
DTSTART:20210326T000000
END:DAYLIGHT
BEGIN:STANDARD
TZOFFSETFROM:+0300
TZOFFSETTO:+0200
TZNAME:IST
DTSTART:20211030T230000
END:STANDARD
BEGIN:DAYLIGHT
TZOFFSETFROM:+0200
TZOFFSETTO:+0300
TZNAME:IDT
DTSTART:20220325T000000
END:DAYLIGHT
BEGIN:STANDARD
TZOFFSETFROM:+0300
TZOFFSETTO:+0200
TZNAME:IST
DTSTART:20221029T230000
END:STANDARD
BEGIN:DAYLIGHT
TZOFFSETFROM:+0200
TZOFFSETTO:+0300
TZNAME:IDT
DTSTART:20230324T000000
END:DAYLIGHT
BEGIN:STANDARD
TZOFFSETFROM:+0300
TZOFFSETTO:+0200
TZNAME:IST
DTSTART:20231028T230000
END:STANDARD
END:VTIMEZONE
BEGIN:VEVENT
DTSTART;TZID=Asia/Jerusalem:20220301T035900
DTEND;TZID=Asia/Jerusalem:20220301T225300
DTSTAMP:20260420T062103
CREATED:20210626T103029Z
LAST-MODIFIED:20210626T103029Z
UID:29952-1646107140-1646175180@www.pninastro.com
SUMMARY:ירח שחור במזל דגים
DESCRIPTION:
URL:https://www.pninastro.com/event/%d7%99%d7%a8%d7%97-%d7%a9%d7%97%d7%95%d7%a8-%d7%91%d7%9e%d7%96%d7%9c-%d7%93%d7%92%d7%99%d7%9d-58/
END:VEVENT
BEGIN:VEVENT
DTSTART;TZID=Asia/Jerusalem:20220302T193600
DTEND;TZID=Asia/Jerusalem:20220302T193600
DTSTAMP:20260420T062103
CREATED:20210626T110556Z
LAST-MODIFIED:20210626T110556Z
UID:29988-1646249760-1646249760@www.pninastro.com
SUMMARY:מולד ירח במזל דגים
DESCRIPTION:
URL:https://www.pninastro.com/event/%d7%9e%d7%95%d7%9c%d7%93-%d7%99%d7%a8%d7%97-%d7%91%d7%9e%d7%96%d7%9c-%d7%93%d7%92%d7%99%d7%9d-4/
END:VEVENT
BEGIN:VEVENT
DTSTART;TZID=Asia/Jerusalem:20220303T234400
DTEND;TZID=Asia/Jerusalem:20220304T025200
DTSTAMP:20260420T062103
CREATED:20210626T103147Z
LAST-MODIFIED:20210626T103147Z
UID:29954-1646351040-1646362320@www.pninastro.com
SUMMARY:ירח שחור במזל טלה
DESCRIPTION:
URL:https://www.pninastro.com/event/%d7%99%d7%a8%d7%97-%d7%a9%d7%97%d7%95%d7%a8-%d7%91%d7%9e%d7%96%d7%9c-%d7%98%d7%9c%d7%94-57/
END:VEVENT
BEGIN:VEVENT
DTSTART;TZID=Asia/Jerusalem:20220306T053200
DTEND;TZID=Asia/Jerusalem:20220306T095900
DTSTAMP:20260420T062103
CREATED:20210626T103309Z
LAST-MODIFIED:20210626T103309Z
UID:29956-1646544720-1646560740@www.pninastro.com
SUMMARY:ירח שחור במזל שור
DESCRIPTION:
URL:https://www.pninastro.com/event/%d7%99%d7%a8%d7%97-%d7%a9%d7%97%d7%95%d7%a8-%d7%91%d7%9e%d7%96%d7%9c-%d7%a9%d7%95%d7%a8-58/
END:VEVENT
BEGIN:VEVENT
DTSTART;TZID=Asia/Jerusalem:20220308T162500
DTEND;TZID=Asia/Jerusalem:20220308T203900
DTSTAMP:20260420T062103
CREATED:20210626T104144Z
LAST-MODIFIED:20210626T104144Z
UID:29960-1646756700-1646771940@www.pninastro.com
SUMMARY:ירח שחור במזל תאומים
DESCRIPTION:
URL:https://www.pninastro.com/event/%d7%99%d7%a8%d7%97-%d7%a9%d7%97%d7%95%d7%a8-%d7%91%d7%9e%d7%96%d7%9c-%d7%aa%d7%90%d7%95%d7%9e%d7%99%d7%9d-59/
END:VEVENT
BEGIN:VEVENT
DTSTART;TZID=Asia/Jerusalem:20220310T183900
DTEND;TZID=Asia/Jerusalem:20220311T092300
DTSTAMP:20260420T062103
CREATED:20210626T104255Z
LAST-MODIFIED:20210626T104255Z
UID:29962-1646937540-1646990580@www.pninastro.com
SUMMARY:ירח שחור במזל סרטן
DESCRIPTION:
URL:https://www.pninastro.com/event/%d7%99%d7%a8%d7%97-%d7%a9%d7%97%d7%95%d7%a8-%d7%91%d7%9e%d7%96%d7%9c-%d7%a1%d7%a8%d7%98%d7%9f-57/
END:VEVENT
BEGIN:VEVENT
DTSTART;TZID=Asia/Jerusalem:20220313T153400
DTEND;TZID=Asia/Jerusalem:20220313T213100
DTSTAMP:20260420T062103
CREATED:20210626T104408Z
LAST-MODIFIED:20210626T104408Z
UID:29964-1647185640-1647207060@www.pninastro.com
SUMMARY:ירח שחור במזל אריה
DESCRIPTION:
URL:https://www.pninastro.com/event/%d7%99%d7%a8%d7%97-%d7%a9%d7%97%d7%95%d7%a8-%d7%91%d7%9e%d7%96%d7%9c-%d7%90%d7%a8%d7%99%d7%94-61/
END:VEVENT
BEGIN:VEVENT
DTSTART;TZID=Asia/Jerusalem:20220315T125300
DTEND;TZID=Asia/Jerusalem:20220316T065800
DTSTAMP:20260420T062103
CREATED:20210626T104627Z
LAST-MODIFIED:20210626T104627Z
UID:29966-1647348780-1647413880@www.pninastro.com
SUMMARY:ירח שחור במזל בתולה
DESCRIPTION:
URL:https://www.pninastro.com/event/%d7%99%d7%a8%d7%97-%d7%a9%d7%97%d7%95%d7%a8-%d7%91%d7%9e%d7%96%d7%9c-%d7%91%d7%aa%d7%95%d7%9c%d7%94-59/
END:VEVENT
BEGIN:VEVENT
DTSTART;TZID=Asia/Jerusalem:20220318T092000
DTEND;TZID=Asia/Jerusalem:20220318T092000
DTSTAMP:20260420T062103
CREATED:20210626T111153Z
LAST-MODIFIED:20210626T111153Z
UID:29994-1647595200-1647595200@www.pninastro.com
SUMMARY:ירח מלא במזל בתולה
DESCRIPTION:
URL:https://www.pninastro.com/event/%d7%99%d7%a8%d7%97-%d7%9e%d7%9c%d7%90-%d7%91%d7%9e%d7%96%d7%9c-%d7%91%d7%aa%d7%95%d7%9c%d7%94-4/
END:VEVENT
BEGIN:VEVENT
DTSTART;TZID=Asia/Jerusalem:20220318T100200
DTEND;TZID=Asia/Jerusalem:20220318T132500
DTSTAMP:20260420T062103
CREATED:20210626T104814Z
LAST-MODIFIED:20210626T104814Z
UID:29968-1647597720-1647609900@www.pninastro.com
SUMMARY:ירח שחור במזל מאזניים
DESCRIPTION:
URL:https://www.pninastro.com/event/%d7%99%d7%a8%d7%97-%d7%a9%d7%97%d7%95%d7%a8-%d7%91%d7%9e%d7%96%d7%9c-%d7%9e%d7%90%d7%96%d7%a0%d7%99%d7%99%d7%9d-60/
END:VEVENT
BEGIN:VEVENT
DTSTART;TZID=Asia/Jerusalem:20220320T143100
DTEND;TZID=Asia/Jerusalem:20220320T174400
DTSTAMP:20260420T062103
CREATED:20210626T104929Z
LAST-MODIFIED:20210626T104929Z
UID:29970-1647786660-1647798240@www.pninastro.com
SUMMARY:ירח שחור במזל עקרב
DESCRIPTION:
URL:https://www.pninastro.com/event/%d7%99%d7%a8%d7%97-%d7%a9%d7%97%d7%95%d7%a8-%d7%91%d7%9e%d7%96%d7%9c-%d7%a2%d7%a7%d7%a8%d7%91-62/
END:VEVENT
BEGIN:VEVENT
DTSTART;TZID=Asia/Jerusalem:20220322T175200
DTEND;TZID=Asia/Jerusalem:20220322T205800
DTSTAMP:20260420T062103
CREATED:20210626T105043Z
LAST-MODIFIED:20210626T105043Z
UID:29972-1647971520-1647982680@www.pninastro.com
SUMMARY:ירח שחור במזל קשת
DESCRIPTION:
URL:https://www.pninastro.com/event/%d7%99%d7%a8%d7%97-%d7%a9%d7%97%d7%95%d7%a8-%d7%91%d7%9e%d7%96%d7%9c-%d7%a7%d7%a9%d7%aa-56/
END:VEVENT
BEGIN:VEVENT
DTSTART;TZID=Asia/Jerusalem:20220324T165700
DTEND;TZID=Asia/Jerusalem:20220324T235300
DTSTAMP:20260420T062103
CREATED:20210626T105218Z
LAST-MODIFIED:20210626T105218Z
UID:29974-1648141020-1648165980@www.pninastro.com
SUMMARY:ירח שחור במזל גדי
DESCRIPTION:
URL:https://www.pninastro.com/event/%d7%99%d7%a8%d7%97-%d7%a9%d7%97%d7%95%d7%a8-%d7%91%d7%9e%d7%96%d7%9c-%d7%92%d7%93%d7%99-59/
END:VEVENT
BEGIN:VEVENT
DTSTART;TZID=Asia/Jerusalem:20220325T000000
DTEND;TZID=Asia/Jerusalem:20220325T000000
DTSTAMP:20260420T062103
CREATED:20210626T104034Z
LAST-MODIFIED:20210626T104034Z
UID:29958-1648166400-1648166400@www.pninastro.com
SUMMARY:שעון קיץ 25.3.2022
DESCRIPTION:
URL:https://www.pninastro.com/event/%d7%a9%d7%a2%d7%95%d7%9f-%d7%a7%d7%99%d7%a5-25-3-2022/
END:VEVENT
BEGIN:VEVENT
DTSTART;TZID=Asia/Jerusalem:20220327T024900
DTEND;TZID=Asia/Jerusalem:20220327T035400
DTSTAMP:20260420T062103
CREATED:20210626T105328Z
LAST-MODIFIED:20210626T105328Z
UID:29976-1648349340-1648353240@www.pninastro.com
SUMMARY:ירח שחור במזל דלי
DESCRIPTION:
URL:https://www.pninastro.com/event/%d7%99%d7%a8%d7%97-%d7%a9%d7%97%d7%95%d7%a8-%d7%91%d7%9e%d7%96%d7%9c-%d7%93%d7%9c%d7%99-59/
END:VEVENT
BEGIN:VEVENT
DTSTART;TZID=Asia/Jerusalem:20220328T170900
DTEND;TZID=Asia/Jerusalem:20220329T073100
DTSTAMP:20260420T062103
CREATED:20210626T105441Z
LAST-MODIFIED:20210626T105441Z
UID:29978-1648487340-1648539060@www.pninastro.com
SUMMARY:ירח שחור במזל דגים
DESCRIPTION:
URL:https://www.pninastro.com/event/%d7%99%d7%a8%d7%97-%d7%a9%d7%97%d7%95%d7%a8-%d7%91%d7%9e%d7%96%d7%9c-%d7%93%d7%92%d7%99%d7%9d-59/
END:VEVENT
BEGIN:VEVENT
DTSTART;TZID=Asia/Jerusalem:20220331T092700
DTEND;TZID=Asia/Jerusalem:20220331T122900
DTSTAMP:20260420T062103
CREATED:20210626T105557Z
LAST-MODIFIED:20210626T105557Z
UID:29980-1648718820-1648729740@www.pninastro.com
SUMMARY:ירח שחור במזל טלה
DESCRIPTION:
URL:https://www.pninastro.com/event/%d7%99%d7%a8%d7%97-%d7%a9%d7%97%d7%95%d7%a8-%d7%91%d7%9e%d7%96%d7%9c-%d7%98%d7%9c%d7%94-58/
END:VEVENT
END:VCALENDAR