BEGIN:VCALENDAR
VERSION:2.0
PRODID:-//פנינה כץ - הורוסקופ שבועי - ECPv6.15.20//NONSGML v1.0//EN
CALSCALE:GREGORIAN
METHOD:PUBLISH
X-ORIGINAL-URL:https://www.pninastro.com
X-WR-CALDESC:Events for פנינה כץ - הורוסקופ שבועי
REFRESH-INTERVAL;VALUE=DURATION:PT1H
X-Robots-Tag:noindex
X-PUBLISHED-TTL:PT1H
BEGIN:VTIMEZONE
TZID:Asia/Jerusalem
BEGIN:DAYLIGHT
TZOFFSETFROM:+0200
TZOFFSETTO:+0300
TZNAME:IDT
DTSTART:20210326T000000
END:DAYLIGHT
BEGIN:STANDARD
TZOFFSETFROM:+0300
TZOFFSETTO:+0200
TZNAME:IST
DTSTART:20211030T230000
END:STANDARD
BEGIN:DAYLIGHT
TZOFFSETFROM:+0200
TZOFFSETTO:+0300
TZNAME:IDT
DTSTART:20220325T000000
END:DAYLIGHT
BEGIN:STANDARD
TZOFFSETFROM:+0300
TZOFFSETTO:+0200
TZNAME:IST
DTSTART:20221029T230000
END:STANDARD
BEGIN:DAYLIGHT
TZOFFSETFROM:+0200
TZOFFSETTO:+0300
TZNAME:IDT
DTSTART:20230324T000000
END:DAYLIGHT
BEGIN:STANDARD
TZOFFSETFROM:+0300
TZOFFSETTO:+0200
TZNAME:IST
DTSTART:20231028T230000
END:STANDARD
END:VTIMEZONE
BEGIN:VEVENT
DTSTART;TZID=Asia/Jerusalem:20220630T230300
DTEND;TZID=Asia/Jerusalem:20220701T033900
DTSTAMP:20260420T115046
CREATED:20210927T103600Z
LAST-MODIFIED:20210927T103600Z
UID:31124-1656630180-1656646740@www.pninastro.com
SUMMARY:ירח שחור במזל אריה
DESCRIPTION:
URL:https://www.pninastro.com/event/%d7%99%d7%a8%d7%97-%d7%a9%d7%97%d7%95%d7%a8-%d7%91%d7%9e%d7%96%d7%9c-%d7%90%d7%a8%d7%99%d7%94-65/
END:VEVENT
BEGIN:VEVENT
DTSTART;TZID=Asia/Jerusalem:20220703T125800
DTEND;TZID=Asia/Jerusalem:20220703T153000
DTSTAMP:20260420T115046
CREATED:20210927T104619Z
LAST-MODIFIED:20210927T104619Z
UID:31126-1656853080-1656862200@www.pninastro.com
SUMMARY:ירח שחור במזל בתולה
DESCRIPTION:
URL:https://www.pninastro.com/event/%d7%99%d7%a8%d7%97-%d7%a9%d7%97%d7%95%d7%a8-%d7%91%d7%9e%d7%96%d7%9c-%d7%91%d7%aa%d7%95%d7%9c%d7%94-63/
END:VEVENT
BEGIN:VEVENT
DTSTART;TZID=Asia/Jerusalem:20220705T205300
DTEND;TZID=Asia/Jerusalem:20220706T012400
DTSTAMP:20260420T115046
CREATED:20210927T104730Z
LAST-MODIFIED:20210927T104730Z
UID:31128-1657054380-1657070640@www.pninastro.com
SUMMARY:ירח שחור במזל מאזניים
DESCRIPTION:
URL:https://www.pninastro.com/event/%d7%99%d7%a8%d7%97-%d7%a9%d7%97%d7%95%d7%a8-%d7%91%d7%9e%d7%96%d7%9c-%d7%9e%d7%90%d7%96%d7%a0%d7%99%d7%99%d7%9d-64/
END:VEVENT
BEGIN:VEVENT
DTSTART;TZID=Asia/Jerusalem:20220708T035400
DTEND;TZID=Asia/Jerusalem:20220708T081400
DTSTAMP:20260420T115046
CREATED:20210928T105240Z
LAST-MODIFIED:20210928T105240Z
UID:31148-1657252440-1657268040@www.pninastro.com
SUMMARY:ירח שחור במזל עקרב
DESCRIPTION:
URL:https://www.pninastro.com/event/%d7%99%d7%a8%d7%97-%d7%a9%d7%97%d7%95%d7%a8-%d7%91%d7%9e%d7%96%d7%9c-%d7%a2%d7%a7%d7%a8%d7%91-66/
END:VEVENT
BEGIN:VEVENT
DTSTART;TZID=Asia/Jerusalem:20220710T072500
DTEND;TZID=Asia/Jerusalem:20220710T113300
DTSTAMP:20260420T115046
CREATED:20210928T105329Z
LAST-MODIFIED:20210928T105329Z
UID:31150-1657437900-1657452780@www.pninastro.com
SUMMARY:ירח שחור במזל קשת
DESCRIPTION:
URL:https://www.pninastro.com/event/%d7%99%d7%a8%d7%97-%d7%a9%d7%97%d7%95%d7%a8-%d7%91%d7%9e%d7%96%d7%9c-%d7%a7%d7%a9%d7%aa-60/
END:VEVENT
BEGIN:VEVENT
DTSTART;TZID=Asia/Jerusalem:20220712T043900
DTEND;TZID=Asia/Jerusalem:20220712T120000
DTSTAMP:20260420T115046
CREATED:20210928T105509Z
LAST-MODIFIED:20210928T105509Z
UID:31152-1657600740-1657627200@www.pninastro.com
SUMMARY:ירח שחור במזל גדי
DESCRIPTION:
URL:https://www.pninastro.com/event/%d7%99%d7%a8%d7%97-%d7%a9%d7%97%d7%95%d7%a8-%d7%91%d7%9e%d7%96%d7%9c-%d7%92%d7%93%d7%99-63/
END:VEVENT
BEGIN:VEVENT
DTSTART;TZID=Asia/Jerusalem:20220713T213900
DTEND;TZID=Asia/Jerusalem:20220713T213900
DTSTAMP:20260420T115046
CREATED:20210927T105851Z
LAST-MODIFIED:20210927T105851Z
UID:31136-1657748340-1657748340@www.pninastro.com
SUMMARY:ירח מלא במזל גדי
DESCRIPTION:
URL:https://www.pninastro.com/event/%d7%99%d7%a8%d7%97-%d7%9e%d7%9c%d7%90-%d7%91%d7%9e%d7%96%d7%9c-%d7%92%d7%93%d7%99-3/
END:VEVENT
BEGIN:VEVENT
DTSTART;TZID=Asia/Jerusalem:20220714T070700
DTEND;TZID=Asia/Jerusalem:20220714T111200
DTSTAMP:20260420T115046
CREATED:20210928T105626Z
LAST-MODIFIED:20210928T105626Z
UID:31154-1657782420-1657797120@www.pninastro.com
SUMMARY:ירח שחור במזל דלי
DESCRIPTION:
URL:https://www.pninastro.com/event/%d7%99%d7%a8%d7%97-%d7%a9%d7%97%d7%95%d7%a8-%d7%91%d7%9e%d7%96%d7%9c-%d7%93%d7%9c%d7%99-63/
END:VEVENT
BEGIN:VEVENT
DTSTART;TZID=Asia/Jerusalem:20220716T073500
DTEND;TZID=Asia/Jerusalem:20220716T111700
DTSTAMP:20260420T115046
CREATED:20210928T105728Z
LAST-MODIFIED:20210928T105728Z
UID:31156-1657956900-1657970220@www.pninastro.com
SUMMARY:ירח שחור במזל דגים
DESCRIPTION:
URL:https://www.pninastro.com/event/%d7%99%d7%a8%d7%97-%d7%a9%d7%97%d7%95%d7%a8-%d7%91%d7%9e%d7%96%d7%9c-%d7%93%d7%92%d7%99%d7%9d-63/
END:VEVENT
BEGIN:VEVENT
DTSTART;TZID=Asia/Jerusalem:20220718T093700
DTEND;TZID=Asia/Jerusalem:20220718T141600
DTSTAMP:20260420T115046
CREATED:20210928T105815Z
LAST-MODIFIED:20210928T105815Z
UID:31158-1658137020-1658153760@www.pninastro.com
SUMMARY:ירח שחור במזל טלה
DESCRIPTION:
URL:https://www.pninastro.com/event/%d7%99%d7%a8%d7%97-%d7%a9%d7%97%d7%95%d7%a8-%d7%91%d7%9e%d7%96%d7%9c-%d7%98%d7%9c%d7%94-62/
END:VEVENT
BEGIN:VEVENT
DTSTART;TZID=Asia/Jerusalem:20220720T171700
DTEND;TZID=Asia/Jerusalem:20220720T212200
DTSTAMP:20260420T115046
CREATED:20210928T105904Z
LAST-MODIFIED:20210928T105904Z
UID:31160-1658337420-1658352120@www.pninastro.com
SUMMARY:ירח שחור במזל שור
DESCRIPTION:
URL:https://www.pninastro.com/event/%d7%99%d7%a8%d7%97-%d7%a9%d7%97%d7%95%d7%a8-%d7%91%d7%9e%d7%96%d7%9c-%d7%a9%d7%95%d7%a8-63/
END:VEVENT
BEGIN:VEVENT
DTSTART;TZID=Asia/Jerusalem:20220723T023300
DTEND;TZID=Asia/Jerusalem:20220723T081000
DTSTAMP:20260420T115046
CREATED:20210928T105958Z
LAST-MODIFIED:20210928T105958Z
UID:31162-1658543580-1658563800@www.pninastro.com
SUMMARY:ירח שחור במזל תאומים
DESCRIPTION:
URL:https://www.pninastro.com/event/%d7%99%d7%a8%d7%97-%d7%a9%d7%97%d7%95%d7%a8-%d7%91%d7%9e%d7%96%d7%9c-%d7%aa%d7%90%d7%95%d7%9e%d7%99%d7%9d-64/
END:VEVENT
BEGIN:VEVENT
DTSTART;TZID=Asia/Jerusalem:20220725T111100
DTEND;TZID=Asia/Jerusalem:20220725T205300
DTSTAMP:20260420T115046
CREATED:20210928T110148Z
LAST-MODIFIED:20210928T110148Z
UID:31164-1658747460-1658782380@www.pninastro.com
SUMMARY:ירח שחור במזל סרטן
DESCRIPTION:
URL:https://www.pninastro.com/event/%d7%99%d7%a8%d7%97-%d7%a9%d7%97%d7%95%d7%a8-%d7%91%d7%9e%d7%96%d7%9c-%d7%a1%d7%a8%d7%98%d7%9f-62/
END:VEVENT
BEGIN:VEVENT
DTSTART;TZID=Asia/Jerusalem:20220728T034200
DTEND;TZID=Asia/Jerusalem:20220728T093500
DTSTAMP:20260420T115046
CREATED:20210928T110257Z
LAST-MODIFIED:20210928T110257Z
UID:31166-1658979720-1659000900@www.pninastro.com
SUMMARY:ירח שחור במזל אריה
DESCRIPTION:
URL:https://www.pninastro.com/event/%d7%99%d7%a8%d7%97-%d7%a9%d7%97%d7%95%d7%a8-%d7%91%d7%9e%d7%96%d7%9c-%d7%90%d7%a8%d7%99%d7%94-66/
END:VEVENT
BEGIN:VEVENT
DTSTART;TZID=Asia/Jerusalem:20220728T205600
DTEND;TZID=Asia/Jerusalem:20220728T205600
DTSTAMP:20260420T115046
CREATED:20220712T080436Z
LAST-MODIFIED:20220712T080436Z
UID:34375-1659041760-1659041760@www.pninastro.com
SUMMARY:מולד ירח במזל אריה
DESCRIPTION:
URL:https://www.pninastro.com/event/%d7%9e%d7%95%d7%9c%d7%93-%d7%99%d7%a8%d7%97-%d7%91%d7%9e%d7%96%d7%9c-%d7%90%d7%a8%d7%99%d7%94-3/
END:VEVENT
BEGIN:VEVENT
DTSTART;TZID=Asia/Jerusalem:20220730T072600
DTEND;TZID=Asia/Jerusalem:20220730T211000
DTSTAMP:20260420T115046
CREATED:20210928T110347Z
LAST-MODIFIED:20210928T110347Z
UID:31168-1659165960-1659215400@www.pninastro.com
SUMMARY:ירח שחור במזל בתולה
DESCRIPTION:
URL:https://www.pninastro.com/event/%d7%99%d7%a8%d7%97-%d7%a9%d7%97%d7%95%d7%a8-%d7%91%d7%9e%d7%96%d7%9c-%d7%91%d7%aa%d7%95%d7%9c%d7%94-64/
END:VEVENT
END:VCALENDAR