BEGIN:VCALENDAR
VERSION:2.0
PRODID:-//פנינה כץ - הורוסקופ שבועי - ECPv6.15.20//NONSGML v1.0//EN
CALSCALE:GREGORIAN
METHOD:PUBLISH
X-ORIGINAL-URL:https://www.pninastro.com
X-WR-CALDESC:Events for פנינה כץ - הורוסקופ שבועי
REFRESH-INTERVAL;VALUE=DURATION:PT1H
X-Robots-Tag:noindex
X-PUBLISHED-TTL:PT1H
BEGIN:VTIMEZONE
TZID:Asia/Jerusalem
BEGIN:DAYLIGHT
TZOFFSETFROM:+0200
TZOFFSETTO:+0300
TZNAME:IDT
DTSTART:20210326T000000
END:DAYLIGHT
BEGIN:STANDARD
TZOFFSETFROM:+0300
TZOFFSETTO:+0200
TZNAME:IST
DTSTART:20211030T230000
END:STANDARD
BEGIN:DAYLIGHT
TZOFFSETFROM:+0200
TZOFFSETTO:+0300
TZNAME:IDT
DTSTART:20220325T000000
END:DAYLIGHT
BEGIN:STANDARD
TZOFFSETFROM:+0300
TZOFFSETTO:+0200
TZNAME:IST
DTSTART:20221029T230000
END:STANDARD
BEGIN:DAYLIGHT
TZOFFSETFROM:+0200
TZOFFSETTO:+0300
TZNAME:IDT
DTSTART:20230324T000000
END:DAYLIGHT
BEGIN:STANDARD
TZOFFSETFROM:+0300
TZOFFSETTO:+0200
TZNAME:IST
DTSTART:20231028T230000
END:STANDARD
END:VTIMEZONE
BEGIN:VEVENT
DTSTART;TZID=Asia/Jerusalem:20220802T001800
DTEND;TZID=Asia/Jerusalem:20220802T070500
DTSTAMP:20260420T133235
CREATED:20210928T110454Z
LAST-MODIFIED:20210928T110454Z
UID:31170-1659399480-1659423900@www.pninastro.com
SUMMARY:ירח שחור במזל מאזניים
DESCRIPTION:
URL:https://www.pninastro.com/event/%d7%99%d7%a8%d7%97-%d7%a9%d7%97%d7%95%d7%a8-%d7%91%d7%9e%d7%96%d7%9c-%d7%9e%d7%90%d7%96%d7%a0%d7%99%d7%99%d7%9d-65/
END:VEVENT
BEGIN:VEVENT
DTSTART;TZID=Asia/Jerusalem:20220804T090900
DTEND;TZID=Asia/Jerusalem:20220804T144600
DTSTAMP:20260420T133235
CREATED:20210928T110558Z
LAST-MODIFIED:20210928T110558Z
UID:31172-1659604140-1659624360@www.pninastro.com
SUMMARY:ירח שחור במזל עקרב
DESCRIPTION:
URL:https://www.pninastro.com/event/%d7%99%d7%a8%d7%97-%d7%a9%d7%97%d7%95%d7%a8-%d7%91%d7%9e%d7%96%d7%9c-%d7%a2%d7%a7%d7%a8%d7%91-67/
END:VEVENT
BEGIN:VEVENT
DTSTART;TZID=Asia/Jerusalem:20220806T141400
DTEND;TZID=Asia/Jerusalem:20220806T193800
DTSTAMP:20260420T133235
CREATED:20220101T121317Z
LAST-MODIFIED:20220101T121317Z
UID:32181-1659795240-1659814680@www.pninastro.com
SUMMARY:ירח שחור במזל קשת
DESCRIPTION:
URL:https://www.pninastro.com/event/%d7%99%d7%a8%d7%97-%d7%a9%d7%97%d7%95%d7%a8-%d7%91%d7%9e%d7%96%d7%9c-%d7%a7%d7%a9%d7%aa-61/
END:VEVENT
BEGIN:VEVENT
DTSTART;TZID=Asia/Jerusalem:20220808T132700
DTEND;TZID=Asia/Jerusalem:20220808T213800
DTSTAMP:20260420T133235
CREATED:20220101T141722Z
LAST-MODIFIED:20220101T141722Z
UID:32183-1659965220-1659994680@www.pninastro.com
SUMMARY:ירח שחור במזל גדי
DESCRIPTION:
URL:https://www.pninastro.com/event/%d7%99%d7%a8%d7%97-%d7%a9%d7%97%d7%95%d7%a8-%d7%91%d7%9e%d7%96%d7%9c-%d7%92%d7%93%d7%99-64/
END:VEVENT
BEGIN:VEVENT
DTSTART;TZID=Asia/Jerusalem:20220810T193700
DTEND;TZID=Asia/Jerusalem:20220810T214400
DTSTAMP:20260420T133235
CREATED:20220101T141832Z
LAST-MODIFIED:20220101T141832Z
UID:32185-1660160220-1660167840@www.pninastro.com
SUMMARY:ירח שחור במזל דלי
DESCRIPTION:
URL:https://www.pninastro.com/event/%d7%99%d7%a8%d7%97-%d7%a9%d7%97%d7%95%d7%a8-%d7%91%d7%9e%d7%96%d7%9c-%d7%93%d7%9c%d7%99-64/
END:VEVENT
BEGIN:VEVENT
DTSTART;TZID=Asia/Jerusalem:20220812T043800
DTEND;TZID=Asia/Jerusalem:20220812T043800
DTSTAMP:20260420T133235
CREATED:20220102T185440Z
LAST-MODIFIED:20220102T185440Z
UID:32348-1660279080-1660279080@www.pninastro.com
SUMMARY:ירח מלא במזל דלי
DESCRIPTION:
URL:https://www.pninastro.com/event/%d7%99%d7%a8%d7%97-%d7%9e%d7%9c%d7%90-%d7%91%d7%9e%d7%96%d7%9c-%d7%93%d7%9c%d7%99-4/
END:VEVENT
BEGIN:VEVENT
DTSTART;TZID=Asia/Jerusalem:20220812T140600
DTEND;TZID=Asia/Jerusalem:20220812T214300
DTSTAMP:20260420T133235
CREATED:20220101T141951Z
LAST-MODIFIED:20220101T141951Z
UID:32187-1660313160-1660340580@www.pninastro.com
SUMMARY:ירח שחור במזל דגים
DESCRIPTION:
URL:https://www.pninastro.com/event/%d7%99%d7%a8%d7%97-%d7%a9%d7%97%d7%95%d7%a8-%d7%91%d7%9e%d7%96%d7%9c-%d7%93%d7%92%d7%99%d7%9d-64/
END:VEVENT
BEGIN:VEVENT
DTSTART;TZID=Asia/Jerusalem:20220814T180000
DTEND;TZID=Asia/Jerusalem:20220814T234200
DTSTAMP:20260420T133235
CREATED:20220101T142117Z
LAST-MODIFIED:20220101T142117Z
UID:32189-1660500000-1660520520@www.pninastro.com
SUMMARY:ירח שחור במזל טלה
DESCRIPTION:
URL:https://www.pninastro.com/event/%d7%99%d7%a8%d7%97-%d7%a9%d7%97%d7%95%d7%a8-%d7%91%d7%9e%d7%96%d7%9c-%d7%98%d7%9c%d7%94-63/
END:VEVENT
BEGIN:VEVENT
DTSTART;TZID=Asia/Jerusalem:20220816T230700
DTEND;TZID=Asia/Jerusalem:20220817T052100
DTSTAMP:20260420T133235
CREATED:20220101T142223Z
LAST-MODIFIED:20220101T142223Z
UID:32191-1660691220-1660713660@www.pninastro.com
SUMMARY:ירח שחור במזל שור
DESCRIPTION:
URL:https://www.pninastro.com/event/%d7%99%d7%a8%d7%97-%d7%a9%d7%97%d7%95%d7%a8-%d7%91%d7%9e%d7%96%d7%9c-%d7%a9%d7%95%d7%a8-64/
END:VEVENT
BEGIN:VEVENT
DTSTART;TZID=Asia/Jerusalem:20220819T140400
DTEND;TZID=Asia/Jerusalem:20220819T150500
DTSTAMP:20260420T133235
CREATED:20220101T142330Z
LAST-MODIFIED:20220101T142330Z
UID:32193-1660917840-1660921500@www.pninastro.com
SUMMARY:ירח שחור במזל תאומים
DESCRIPTION:
URL:https://www.pninastro.com/event/%d7%99%d7%a8%d7%97-%d7%a9%d7%97%d7%95%d7%a8-%d7%91%d7%9e%d7%96%d7%9c-%d7%aa%d7%90%d7%95%d7%9e%d7%99%d7%9d-65/
END:VEVENT
BEGIN:VEVENT
DTSTART;TZID=Asia/Jerusalem:20220822T010500
DTEND;TZID=Asia/Jerusalem:20220822T032800
DTSTAMP:20260420T133235
CREATED:20220101T142449Z
LAST-MODIFIED:20220101T142449Z
UID:32195-1661130300-1661138880@www.pninastro.com
SUMMARY:ירח שחור במזל סרטן
DESCRIPTION:
URL:https://www.pninastro.com/event/%d7%99%d7%a8%d7%97-%d7%a9%d7%97%d7%95%d7%a8-%d7%91%d7%9e%d7%96%d7%9c-%d7%a1%d7%a8%d7%98%d7%9f-63/
END:VEVENT
BEGIN:VEVENT
DTSTART;TZID=Asia/Jerusalem:20220824T123800
DTEND;TZID=Asia/Jerusalem:20220824T160800
DTSTAMP:20260420T133235
CREATED:20220101T142547Z
LAST-MODIFIED:20220101T142547Z
UID:32197-1661344680-1661357280@www.pninastro.com
SUMMARY:ירח שחור במזל אריה
DESCRIPTION:
URL:https://www.pninastro.com/event/%d7%99%d7%a8%d7%97-%d7%a9%d7%97%d7%95%d7%a8-%d7%91%d7%9e%d7%96%d7%9c-%d7%90%d7%a8%d7%99%d7%94-67/
END:VEVENT
BEGIN:VEVENT
DTSTART;TZID=Asia/Jerusalem:20220826T095200
DTEND;TZID=Asia/Jerusalem:20220827T032400
DTSTAMP:20260420T133235
CREATED:20220101T142905Z
LAST-MODIFIED:20220101T142905Z
UID:32199-1661507520-1661570640@www.pninastro.com
SUMMARY:ירח שחור במזל בתולה
DESCRIPTION:
URL:https://www.pninastro.com/event/%d7%99%d7%a8%d7%97-%d7%a9%d7%97%d7%95%d7%a8-%d7%91%d7%9e%d7%96%d7%9c-%d7%91%d7%aa%d7%95%d7%9c%d7%94-65/
END:VEVENT
BEGIN:VEVENT
DTSTART;TZID=Asia/Jerusalem:20220827T111800
DTEND;TZID=Asia/Jerusalem:20220827T111800
DTSTAMP:20260420T133235
CREATED:20220103T090009Z
LAST-MODIFIED:20220103T090009Z
UID:32357-1661599080-1661599080@www.pninastro.com
SUMMARY:מולד ירח במזל בתולה
DESCRIPTION:
URL:https://www.pninastro.com/event/%d7%9e%d7%95%d7%9c%d7%93-%d7%99%d7%a8%d7%97-%d7%91%d7%9e%d7%96%d7%9c-%d7%91%d7%aa%d7%95%d7%9c%d7%94-5/
END:VEVENT
BEGIN:VEVENT
DTSTART;TZID=Asia/Jerusalem:20220829T055700
DTEND;TZID=Asia/Jerusalem:20220829T124400
DTSTAMP:20260420T133235
CREATED:20220101T143111Z
LAST-MODIFIED:20220101T143111Z
UID:32201-1661752620-1661777040@www.pninastro.com
SUMMARY:ירח שחור במזל מאזניים
DESCRIPTION:
URL:https://www.pninastro.com/event/%d7%99%d7%a8%d7%97-%d7%a9%d7%97%d7%95%d7%a8-%d7%91%d7%9e%d7%96%d7%9c-%d7%9e%d7%90%d7%96%d7%a0%d7%99%d7%99%d7%9d-67/
END:VEVENT
BEGIN:VEVENT
DTSTART;TZID=Asia/Jerusalem:20220831T133300
DTEND;TZID=Asia/Jerusalem:20220831T201000
DTSTAMP:20260420T133235
CREATED:20220101T143218Z
LAST-MODIFIED:20220101T143218Z
UID:32203-1661952780-1661976600@www.pninastro.com
SUMMARY:ירח שחור במזל עקרב
DESCRIPTION:
URL:https://www.pninastro.com/event/%d7%99%d7%a8%d7%97-%d7%a9%d7%97%d7%95%d7%a8-%d7%91%d7%9e%d7%96%d7%9c-%d7%a2%d7%a7%d7%a8%d7%91-68/
END:VEVENT
END:VCALENDAR