BEGIN:VCALENDAR
VERSION:2.0
PRODID:-//פנינה כץ - הורוסקופ שבועי - ECPv6.15.20//NONSGML v1.0//EN
CALSCALE:GREGORIAN
METHOD:PUBLISH
X-ORIGINAL-URL:https://www.pninastro.com
X-WR-CALDESC:Events for פנינה כץ - הורוסקופ שבועי
REFRESH-INTERVAL;VALUE=DURATION:PT1H
X-Robots-Tag:noindex
X-PUBLISHED-TTL:PT1H
BEGIN:VTIMEZONE
TZID:Asia/Jerusalem
BEGIN:DAYLIGHT
TZOFFSETFROM:+0200
TZOFFSETTO:+0300
TZNAME:IDT
DTSTART:20210326T000000
END:DAYLIGHT
BEGIN:STANDARD
TZOFFSETFROM:+0300
TZOFFSETTO:+0200
TZNAME:IST
DTSTART:20211030T230000
END:STANDARD
BEGIN:DAYLIGHT
TZOFFSETFROM:+0200
TZOFFSETTO:+0300
TZNAME:IDT
DTSTART:20220325T000000
END:DAYLIGHT
BEGIN:STANDARD
TZOFFSETFROM:+0300
TZOFFSETTO:+0200
TZNAME:IST
DTSTART:20221029T230000
END:STANDARD
BEGIN:DAYLIGHT
TZOFFSETFROM:+0200
TZOFFSETTO:+0300
TZNAME:IDT
DTSTART:20230324T000000
END:DAYLIGHT
BEGIN:STANDARD
TZOFFSETFROM:+0300
TZOFFSETTO:+0200
TZNAME:IST
DTSTART:20231028T230000
END:STANDARD
END:VTIMEZONE
BEGIN:VEVENT
DTSTART;TZID=Asia/Jerusalem:20220902T202000
DTEND;TZID=Asia/Jerusalem:20220903T013900
DTSTAMP:20260420T145604
CREATED:20220101T143350Z
LAST-MODIFIED:20220101T143350Z
UID:32205-1662150000-1662169140@www.pninastro.com
SUMMARY:ירח שחור במזל קשת
DESCRIPTION:
URL:https://www.pninastro.com/event/%d7%99%d7%a8%d7%97-%d7%a9%d7%97%d7%95%d7%a8-%d7%91%d7%9e%d7%96%d7%9c-%d7%a7%d7%a9%d7%aa-62/
END:VEVENT
BEGIN:VEVENT
DTSTART;TZID=Asia/Jerusalem:20220905T044900
DTEND;TZID=Asia/Jerusalem:20220905T050200
DTSTAMP:20260420T145604
CREATED:20220101T143517Z
LAST-MODIFIED:20220101T143517Z
UID:32207-1662353340-1662354120@www.pninastro.com
SUMMARY:ירח שחור במזל גדי
DESCRIPTION:
URL:https://www.pninastro.com/event/%d7%99%d7%a8%d7%97-%d7%a9%d7%97%d7%95%d7%a8-%d7%91%d7%9e%d7%96%d7%9c-%d7%92%d7%93%d7%99-65/
END:VEVENT
BEGIN:VEVENT
DTSTART;TZID=Asia/Jerusalem:20220907T003300
DTEND;TZID=Asia/Jerusalem:20220907T064000
DTSTAMP:20260420T145604
CREATED:20220101T153124Z
LAST-MODIFIED:20220101T153124Z
UID:32210-1662510780-1662532800@www.pninastro.com
SUMMARY:ירח שחור במזל דלי
DESCRIPTION:
URL:https://www.pninastro.com/event/%d7%99%d7%a8%d7%97-%d7%a9%d7%97%d7%95%d7%a8-%d7%91%d7%9e%d7%96%d7%9c-%d7%93%d7%9c%d7%99-65/
END:VEVENT
BEGIN:VEVENT
DTSTART;TZID=Asia/Jerusalem:20220908T153100
DTEND;TZID=Asia/Jerusalem:20220909T074100
DTSTAMP:20260420T145604
CREATED:20220101T153235Z
LAST-MODIFIED:20220101T153235Z
UID:32212-1662651060-1662709260@www.pninastro.com
SUMMARY:ירח שחור במזל דגים
DESCRIPTION:
URL:https://www.pninastro.com/event/%d7%99%d7%a8%d7%97-%d7%a9%d7%97%d7%95%d7%a8-%d7%91%d7%9e%d7%96%d7%9c-%d7%93%d7%92%d7%99%d7%9d-65/
END:VEVENT
BEGIN:VEVENT
DTSTART;TZID=Asia/Jerusalem:20220910T080000
DTEND;TZID=Asia/Jerusalem:20221002T170000
DTSTAMP:20260420T145604
CREATED:20220102T184504Z
LAST-MODIFIED:20220102T184504Z
UID:32340-1662796800-1664730000@www.pninastro.com
SUMMARY:נסיגת מרקורי במזל מאזניים
DESCRIPTION:
URL:https://www.pninastro.com/event/%d7%a0%d7%a1%d7%99%d7%92%d7%aa-%d7%9e%d7%a8%d7%a7%d7%95%d7%a8%d7%99-%d7%91%d7%9e%d7%96%d7%9c-%d7%9e%d7%90%d7%96%d7%a0%d7%99%d7%99%d7%9d/
END:VEVENT
BEGIN:VEVENT
DTSTART;TZID=Asia/Jerusalem:20220910T130100
DTEND;TZID=Asia/Jerusalem:20220910T130100
DTSTAMP:20260420T145604
CREATED:20220103T092120Z
LAST-MODIFIED:20220103T092120Z
UID:32376-1662814860-1662814860@www.pninastro.com
SUMMARY:ירח מלא במזל דגים
DESCRIPTION:
URL:https://www.pninastro.com/event/%d7%99%d7%a8%d7%97-%d7%9e%d7%9c%d7%90-%d7%91%d7%9e%d7%96%d7%9c-%d7%93%d7%92%d7%99%d7%9d-5/
END:VEVENT
BEGIN:VEVENT
DTSTART;TZID=Asia/Jerusalem:20220911T031900
DTEND;TZID=Asia/Jerusalem:20220911T094600
DTSTAMP:20260420T145604
CREATED:20220101T153348Z
LAST-MODIFIED:20220101T153348Z
UID:32214-1662866340-1662889560@www.pninastro.com
SUMMARY:ירח שחור במזל טלה
DESCRIPTION:
URL:https://www.pninastro.com/event/%d7%99%d7%a8%d7%97-%d7%a9%d7%97%d7%95%d7%a8-%d7%91%d7%9e%d7%96%d7%9c-%d7%98%d7%9c%d7%94-64/
END:VEVENT
BEGIN:VEVENT
DTSTART;TZID=Asia/Jerusalem:20220913T074200
DTEND;TZID=Asia/Jerusalem:20220913T143800
DTSTAMP:20260420T145604
CREATED:20220101T153444Z
LAST-MODIFIED:20220101T153444Z
UID:32216-1663054920-1663079880@www.pninastro.com
SUMMARY:ירח שחור במזל שור
DESCRIPTION:
URL:https://www.pninastro.com/event/%d7%99%d7%a8%d7%97-%d7%a9%d7%97%d7%95%d7%a8-%d7%91%d7%9e%d7%96%d7%9c-%d7%a9%d7%95%d7%a8-65/
END:VEVENT
BEGIN:VEVENT
DTSTART;TZID=Asia/Jerusalem:20220915T154700
DTEND;TZID=Asia/Jerusalem:20220915T231500
DTSTAMP:20260420T145604
CREATED:20220101T153610Z
LAST-MODIFIED:20220101T153610Z
UID:32218-1663256820-1663283700@www.pninastro.com
SUMMARY:ירח שחור במזל תאומים
DESCRIPTION:
URL:https://www.pninastro.com/event/%d7%99%d7%a8%d7%97-%d7%a9%d7%97%d7%95%d7%a8-%d7%91%d7%9e%d7%96%d7%9c-%d7%aa%d7%90%d7%95%d7%9e%d7%99%d7%9d-66/
END:VEVENT
BEGIN:VEVENT
DTSTART;TZID=Asia/Jerusalem:20220918T005000
DTEND;TZID=Asia/Jerusalem:20220918T105800
DTSTAMP:20260420T145604
CREATED:20220101T153705Z
LAST-MODIFIED:20220101T153705Z
UID:32220-1663462200-1663498680@www.pninastro.com
SUMMARY:ירח שחור במזל סרטן
DESCRIPTION:
URL:https://www.pninastro.com/event/%d7%99%d7%a8%d7%97-%d7%a9%d7%97%d7%95%d7%a8-%d7%91%d7%9e%d7%96%d7%9c-%d7%a1%d7%a8%d7%98%d7%9f-64/
END:VEVENT
BEGIN:VEVENT
DTSTART;TZID=Asia/Jerusalem:20220920T185500
DTEND;TZID=Asia/Jerusalem:20220920T233700
DTSTAMP:20260420T145604
CREATED:20220101T153759Z
LAST-MODIFIED:20220101T153759Z
UID:32222-1663700100-1663717020@www.pninastro.com
SUMMARY:ירח שחור במזל אריה
DESCRIPTION:
URL:https://www.pninastro.com/event/%d7%99%d7%a8%d7%97-%d7%a9%d7%97%d7%95%d7%a8-%d7%91%d7%9e%d7%96%d7%9c-%d7%90%d7%a8%d7%99%d7%94-68/
END:VEVENT
BEGIN:VEVENT
DTSTART;TZID=Asia/Jerusalem:20220922T140400
DTEND;TZID=Asia/Jerusalem:20220923T105200
DTSTAMP:20260420T145604
CREATED:20220101T153904Z
LAST-MODIFIED:20220101T153904Z
UID:32224-1663855440-1663930320@www.pninastro.com
SUMMARY:ירח שחור במזל בתולה
DESCRIPTION:
URL:https://www.pninastro.com/event/%d7%99%d7%a8%d7%97-%d7%a9%d7%97%d7%95%d7%a8-%d7%91%d7%9e%d7%96%d7%9c-%d7%91%d7%aa%d7%95%d7%9c%d7%94-66/
END:VEVENT
BEGIN:VEVENT
DTSTART;TZID=Asia/Jerusalem:20220925T154800
DTEND;TZID=Asia/Jerusalem:20220925T194200
DTSTAMP:20260420T145604
CREATED:20220101T154014Z
LAST-MODIFIED:20220101T154014Z
UID:32226-1664120880-1664134920@www.pninastro.com
SUMMARY:ירח שחור במזל מאזניים
DESCRIPTION:
URL:https://www.pninastro.com/event/%d7%99%d7%a8%d7%97-%d7%a9%d7%97%d7%95%d7%a8-%d7%91%d7%9e%d7%96%d7%9c-%d7%9e%d7%90%d7%96%d7%a0%d7%99%d7%99%d7%9d-68/
END:VEVENT
BEGIN:VEVENT
DTSTART;TZID=Asia/Jerusalem:20220926T005500
DTEND;TZID=Asia/Jerusalem:20220926T005500
DTSTAMP:20260420T145604
CREATED:20220103T090129Z
LAST-MODIFIED:20220103T090129Z
UID:32359-1664153700-1664153700@www.pninastro.com
SUMMARY:מולד ירח במזל מאזניים
DESCRIPTION:
URL:https://www.pninastro.com/event/%d7%9e%d7%95%d7%9c%d7%93-%d7%99%d7%a8%d7%97-%d7%91%d7%9e%d7%96%d7%9c-%d7%9e%d7%90%d7%96%d7%a0%d7%99%d7%99%d7%9d-4/
END:VEVENT
BEGIN:VEVENT
DTSTART;TZID=Asia/Jerusalem:20220927T191000
DTEND;TZID=Asia/Jerusalem:20220928T021400
DTSTAMP:20260420T145604
CREATED:20220101T154116Z
LAST-MODIFIED:20220101T154116Z
UID:32229-1664305800-1664331240@www.pninastro.com
SUMMARY:ירח שחור במזל עקרב
DESCRIPTION:
URL:https://www.pninastro.com/event/%d7%99%d7%a8%d7%97-%d7%a9%d7%97%d7%95%d7%a8-%d7%91%d7%9e%d7%96%d7%9c-%d7%a2%d7%a7%d7%a8%d7%91-69/
END:VEVENT
BEGIN:VEVENT
DTSTART;TZID=Asia/Jerusalem:20220930T000900
DTEND;TZID=Asia/Jerusalem:20220930T070200
DTSTAMP:20260420T145604
CREATED:20220101T154219Z
LAST-MODIFIED:20220101T154219Z
UID:32231-1664496540-1664521320@www.pninastro.com
SUMMARY:ירח שחור במזל קשת
DESCRIPTION:
URL:https://www.pninastro.com/event/%d7%99%d7%a8%d7%97-%d7%a9%d7%97%d7%95%d7%a8-%d7%91%d7%9e%d7%96%d7%9c-%d7%a7%d7%a9%d7%aa-63/
END:VEVENT
END:VCALENDAR