BEGIN:VCALENDAR
VERSION:2.0
PRODID:-//פנינה כץ - הורוסקופ שבועי - ECPv6.15.20//NONSGML v1.0//EN
CALSCALE:GREGORIAN
METHOD:PUBLISH
X-ORIGINAL-URL:https://www.pninastro.com
X-WR-CALDESC:Events for פנינה כץ - הורוסקופ שבועי
REFRESH-INTERVAL;VALUE=DURATION:PT1H
X-Robots-Tag:noindex
X-PUBLISHED-TTL:PT1H
BEGIN:VTIMEZONE
TZID:UTC
BEGIN:STANDARD
TZOFFSETFROM:+0000
TZOFFSETTO:+0000
TZNAME:UTC
DTSTART:20240101T000000
END:STANDARD
END:VTIMEZONE
BEGIN:VEVENT
DTSTART;TZID=UTC:20250902T043700
DTEND;TZID=UTC:20250902T044400
DTSTAMP:20260419T115841
CREATED:20250310T103922Z
LAST-MODIFIED:20250310T104415Z
UID:59961-1756787820-1756788240@www.pninastro.com
SUMMARY:ירח שחור במזל גדי
DESCRIPTION:
URL:https://www.pninastro.com/event/%d7%99%d7%a8%d7%97-%d7%a9%d7%97%d7%95%d7%a8-%d7%91%d7%9e%d7%96%d7%9c-%d7%92%d7%93%d7%99-12/
END:VEVENT
BEGIN:VEVENT
DTSTART;TZID=UTC:20250904T130700
DTEND;TZID=UTC:20250904T133200
DTSTAMP:20260419T115841
CREATED:20250310T104044Z
LAST-MODIFIED:20250310T104123Z
UID:59963-1756991220-1756992720@www.pninastro.com
SUMMARY:ירח שחור במזל דלי
DESCRIPTION:
URL:https://www.pninastro.com/event/%d7%99%d7%a8%d7%97-%d7%a9%d7%97%d7%95%d7%a8-%d7%91%d7%9e%d7%96%d7%9c-%d7%93%d7%9c%d7%99-12/
END:VEVENT
BEGIN:VEVENT
DTSTART;TZID=UTC:20250907T211500
DTEND;TZID=UTC:20250907T211500
DTSTAMP:20260419T115841
CREATED:20250329T142917Z
LAST-MODIFIED:20250329T143054Z
UID:60186-1757279700-1757279700@www.pninastro.com
SUMMARY:ליקוי לבנה מלא במזל דגים
DESCRIPTION:
URL:https://www.pninastro.com/event/%d7%9c%d7%99%d7%a7%d7%95%d7%99-%d7%9c%d7%91%d7%a0%d7%94-%d7%9e%d7%9c%d7%90/
END:VEVENT
BEGIN:VEVENT
DTSTART;TZID=UTC:20250908T204300
DTEND;TZID=UTC:20250908T213600
DTSTAMP:20260419T115841
CREATED:20250310T093703Z
LAST-MODIFIED:20250310T093842Z
UID:59927-1757364180-1757367360@www.pninastro.com
SUMMARY:ירח שחור במזל טלה
DESCRIPTION:
URL:https://www.pninastro.com/event/%d7%99%d7%a8%d7%97-%d7%a9%d7%97%d7%95%d7%a8-%d7%91%d7%9e%d7%96%d7%9c-%d7%98%d7%9c%d7%94-2/
END:VEVENT
BEGIN:VEVENT
DTSTART;TZID=UTC:20250910T095200
DTEND;TZID=UTC:20250910T230300
DTSTAMP:20260419T115841
CREATED:20250329T112234Z
LAST-MODIFIED:20250329T112234Z
UID:60072-1757497920-1757545380@www.pninastro.com
SUMMARY:ירח שחור במזל שור
DESCRIPTION:
URL:https://www.pninastro.com/event/%d7%99%d7%a8%d7%97-%d7%a9%d7%97%d7%95%d7%a8-%d7%91%d7%9e%d7%96%d7%9c-%d7%a9%d7%95%d7%a8-12/
END:VEVENT
BEGIN:VEVENT
DTSTART;TZID=UTC:20250912T231300
DTEND;TZID=UTC:20250913T003800
DTSTAMP:20260419T115841
CREATED:20250329T112351Z
LAST-MODIFIED:20250329T112433Z
UID:60074-1757718780-1757723880@www.pninastro.com
SUMMARY:ירח שחור במזל תאומים
DESCRIPTION:
URL:https://www.pninastro.com/event/%d7%99%d7%a8%d7%97-%d7%a9%d7%97%d7%95%d7%a8-%d7%91%d7%9e%d7%96%d7%9c-%d7%aa%d7%90%d7%95%d7%9e%d7%99%d7%9d-12/
END:VEVENT
BEGIN:VEVENT
DTSTART;TZID=UTC:20250915T014500
DTEND;TZID=UTC:20250915T033000
DTSTAMP:20260419T115841
CREATED:20250329T112734Z
LAST-MODIFIED:20250329T112734Z
UID:60076-1757900700-1757907000@www.pninastro.com
SUMMARY:ירח שחור במזל סרטן
DESCRIPTION:
URL:https://www.pninastro.com/event/%d7%99%d7%a8%d7%97-%d7%a9%d7%97%d7%95%d7%a8-%d7%91%d7%9e%d7%96%d7%9c-%d7%a1%d7%a8%d7%98%d7%9f-14/
END:VEVENT
BEGIN:VEVENT
DTSTART;TZID=UTC:20250917T061200
DTEND;TZID=UTC:20250917T081900
DTSTAMP:20260419T115841
CREATED:20250329T112901Z
LAST-MODIFIED:20250329T113035Z
UID:60078-1758089520-1758097140@www.pninastro.com
SUMMARY:ירח שחור במזל אריה
DESCRIPTION:
URL:https://www.pninastro.com/event/%d7%99%d7%a8%d7%97-%d7%a9%d7%97%d7%95%d7%a8-%d7%91%d7%9e%d7%96%d7%9c-%d7%90%d7%a8%d7%99%d7%94-14/
END:VEVENT
BEGIN:VEVENT
DTSTART;TZID=UTC:20250919T151900
DTEND;TZID=UTC:20250919T152200
DTSTAMP:20260419T115841
CREATED:20250329T113152Z
LAST-MODIFIED:20250329T113152Z
UID:60080-1758295140-1758295320@www.pninastro.com
SUMMARY:ירח שחור במזל בתולה
DESCRIPTION:
URL:https://www.pninastro.com/event/%d7%99%d7%a8%d7%97-%d7%a9%d7%97%d7%95%d7%a8-%d7%91%d7%9e%d7%96%d7%9c-%d7%91%d7%aa%d7%95%d7%9c%d7%94-13/
END:VEVENT
BEGIN:VEVENT
DTSTART;TZID=UTC:20250921T224200
DTEND;TZID=UTC:20250921T224200
DTSTAMP:20260419T115841
CREATED:20250329T143411Z
LAST-MODIFIED:20250329T150052Z
UID:60190-1758494520-1758494520@www.pninastro.com
SUMMARY:ליקוי חמה מלא במזל בתולה
DESCRIPTION:
URL:https://www.pninastro.com/event/%d7%9c%d7%99%d7%a7%d7%95%d7%99-%d7%97%d7%9e%d7%94-%d7%9e%d7%9c%d7%90-%d7%91%d7%9e%d7%96%d7%9c-%d7%91%d7%aa%d7%95%d7%9c%d7%94/
END:VEVENT
BEGIN:VEVENT
DTSTART;TZID=UTC:20250921T225200
DTEND;TZID=UTC:20250922T004000
DTSTAMP:20260419T115841
CREATED:20250329T113843Z
LAST-MODIFIED:20250329T113843Z
UID:60083-1758495120-1758501600@www.pninastro.com
SUMMARY:ירח שחור במזל מאזניים
DESCRIPTION:
URL:https://www.pninastro.com/event/%d7%99%d7%a8%d7%97-%d7%a9%d7%97%d7%95%d7%a8-%d7%91%d7%9e%d7%96%d7%9c-%d7%9e%d7%90%d7%96%d7%a0%d7%99%d7%99%d7%9d-12/
END:VEVENT
BEGIN:VEVENT
DTSTART;TZID=UTC:20250923T184700
DTEND;TZID=UTC:20250924T120000
DTSTAMP:20260419T115841
CREATED:20250329T114016Z
LAST-MODIFIED:20250329T114016Z
UID:60085-1758653220-1758715200@www.pninastro.com
SUMMARY:ירח שחור במזל עקרב
DESCRIPTION:
URL:https://www.pninastro.com/event/%d7%99%d7%a8%d7%97-%d7%a9%d7%97%d7%95%d7%a8-%d7%91%d7%9e%d7%96%d7%9c-%d7%a2%d7%a7%d7%a8%d7%91-13/
END:VEVENT
BEGIN:VEVENT
DTSTART;TZID=UTC:20250926T204300
DTEND;TZID=UTC:20250926T213700
DTSTAMP:20260419T115841
CREATED:20250329T114244Z
LAST-MODIFIED:20250329T114244Z
UID:60087-1758919380-1758922620@www.pninastro.com
SUMMARY:ירח שחור במזל קשת
DESCRIPTION:
URL:https://www.pninastro.com/event/%d7%99%d7%a8%d7%97-%d7%a9%d7%97%d7%95%d7%a8-%d7%91%d7%9e%d7%96%d7%9c-%d7%a7%d7%a9%d7%aa-13/
END:VEVENT
BEGIN:VEVENT
DTSTART;TZID=UTC:20250929T084300
DTEND;TZID=UTC:20250929T125500
DTSTAMP:20260419T115841
CREATED:20250329T114546Z
LAST-MODIFIED:20250329T114546Z
UID:60089-1759135380-1759150500@www.pninastro.com
SUMMARY:ירח שחור במזל גדי
DESCRIPTION:
URL:https://www.pninastro.com/event/%d7%99%d7%a8%d7%97-%d7%a9%d7%97%d7%95%d7%a8-%d7%91%d7%9e%d7%96%d7%9c-%d7%92%d7%93%d7%99-13/
END:VEVENT
END:VCALENDAR