BEGIN:VCALENDAR
VERSION:2.0
PRODID:-//פנינה כץ - הורוסקופ שבועי - ECPv6.15.20//NONSGML v1.0//EN
CALSCALE:GREGORIAN
METHOD:PUBLISH
X-WR-CALNAME:פנינה כץ - הורוסקופ שבועי
X-ORIGINAL-URL:https://www.pninastro.com
X-WR-CALDESC:Events for פנינה כץ - הורוסקופ שבועי
REFRESH-INTERVAL;VALUE=DURATION:PT1H
X-Robots-Tag:noindex
X-PUBLISHED-TTL:PT1H
BEGIN:VTIMEZONE
TZID:UTC
BEGIN:STANDARD
TZOFFSETFROM:+0000
TZOFFSETTO:+0000
TZNAME:UTC
DTSTART:20240101T000000
END:STANDARD
END:VTIMEZONE
BEGIN:VEVENT
DTSTART;TZID=UTC:20251001T183200
DTEND;TZID=UTC:20251001T225000
DTSTAMP:20260419T133205
CREATED:20250329T114716Z
LAST-MODIFIED:20250329T114716Z
UID:60091-1759343520-1759359000@www.pninastro.com
SUMMARY:ירח שחור במזל דלי
DESCRIPTION:
URL:https://www.pninastro.com/event/%d7%99%d7%a8%d7%97-%d7%a9%d7%97%d7%95%d7%a8-%d7%91%d7%9e%d7%96%d7%9c-%d7%93%d7%9c%d7%99-13/
END:VEVENT
BEGIN:VEVENT
DTSTART;TZID=UTC:20251003T211300
DTEND;TZID=UTC:20251004T050600
DTSTAMP:20260419T133205
CREATED:20250329T114843Z
LAST-MODIFIED:20250329T114936Z
UID:60093-1759525980-1759554360@www.pninastro.com
SUMMARY:ירח שחור במזל דגים
DESCRIPTION:
URL:https://www.pninastro.com/event/%d7%99%d7%a8%d7%97-%d7%a9%d7%97%d7%95%d7%a8-%d7%91%d7%9e%d7%96%d7%9c-%d7%93%d7%92%d7%99%d7%9d-12/
END:VEVENT
BEGIN:VEVENT
DTSTART;TZID=UTC:20251006T032800
DTEND;TZID=UTC:20251006T074700
DTSTAMP:20260419T133205
CREATED:20250329T120119Z
LAST-MODIFIED:20250329T120119Z
UID:60095-1759721280-1759736820@www.pninastro.com
SUMMARY:ירח שחור במזל טלה
DESCRIPTION:
URL:https://www.pninastro.com/event/%d7%99%d7%a8%d7%97-%d7%a9%d7%97%d7%95%d7%a8-%d7%91%d7%9e%d7%96%d7%9c-%d7%98%d7%9c%d7%94-12/
END:VEVENT
BEGIN:VEVENT
DTSTART;TZID=UTC:20251007T211100
DTEND;TZID=UTC:20251008T081200
DTSTAMP:20260419T133205
CREATED:20250329T120758Z
LAST-MODIFIED:20250329T120758Z
UID:60097-1759871460-1759911120@www.pninastro.com
SUMMARY:ירח שחור במזל שור
DESCRIPTION:
URL:https://www.pninastro.com/event/%d7%99%d7%a8%d7%97-%d7%a9%d7%97%d7%95%d7%a8-%d7%91%d7%9e%d7%96%d7%9c-%d7%a9%d7%95%d7%a8-13/
END:VEVENT
BEGIN:VEVENT
DTSTART;TZID=UTC:20251010T033000
DTEND;TZID=UTC:20251010T081100
DTSTAMP:20260419T133205
CREATED:20250329T121121Z
LAST-MODIFIED:20250329T121121Z
UID:60099-1760067000-1760083860@www.pninastro.com
SUMMARY:ירח שחור במזל תאומים
DESCRIPTION:
URL:https://www.pninastro.com/event/%d7%99%d7%a8%d7%97-%d7%a9%d7%97%d7%95%d7%a8-%d7%91%d7%9e%d7%96%d7%9c-%d7%aa%d7%90%d7%95%d7%9e%d7%99%d7%9d-13/
END:VEVENT
BEGIN:VEVENT
DTSTART;TZID=UTC:20251012T055400
DTEND;TZID=UTC:20251012T093600
DTSTAMP:20260419T133205
CREATED:20250329T121234Z
LAST-MODIFIED:20250329T121234Z
UID:60101-1760248440-1760261760@www.pninastro.com
SUMMARY:ירח שחור במזל סרטן
DESCRIPTION:
URL:https://www.pninastro.com/event/%d7%99%d7%a8%d7%97-%d7%a9%d7%97%d7%95%d7%a8-%d7%91%d7%9e%d7%96%d7%9c-%d7%a1%d7%a8%d7%98%d7%9f-17/
END:VEVENT
BEGIN:VEVENT
DTSTART;TZID=UTC:20251014T080400
DTEND;TZID=UTC:20251014T134100
DTSTAMP:20260419T133205
CREATED:20250329T121335Z
LAST-MODIFIED:20250329T121335Z
UID:60103-1760429040-1760449260@www.pninastro.com
SUMMARY:ירח שחור במזל אריה
DESCRIPTION:
URL:https://www.pninastro.com/event/%d7%99%d7%a8%d7%97-%d7%a9%d7%97%d7%95%d7%a8-%d7%91%d7%9e%d7%96%d7%9c-%d7%90%d7%a8%d7%99%d7%94-15/
END:VEVENT
BEGIN:VEVENT
DTSTART;TZID=UTC:20251016T080400
DTEND;TZID=UTC:20251016T210500
DTSTAMP:20260419T133205
CREATED:20250329T121441Z
LAST-MODIFIED:20250329T121441Z
UID:60105-1760601840-1760648700@www.pninastro.com
SUMMARY:ירח שחור במזל בתולה
DESCRIPTION:
URL:https://www.pninastro.com/event/%d7%99%d7%a8%d7%97-%d7%a9%d7%97%d7%95%d7%a8-%d7%91%d7%9e%d7%96%d7%9c-%d7%91%d7%aa%d7%95%d7%9c%d7%94-14/
END:VEVENT
BEGIN:VEVENT
DTSTART;TZID=UTC:20251019T000900
DTEND;TZID=UTC:20251019T070100
DTSTAMP:20260419T133205
CREATED:20250329T121751Z
LAST-MODIFIED:20250329T121751Z
UID:60108-1760832540-1760857260@www.pninastro.com
SUMMARY:ירח שחור במזל מאזניים
DESCRIPTION:
URL:https://www.pninastro.com/event/%d7%99%d7%a8%d7%97-%d7%a9%d7%97%d7%95%d7%a8-%d7%91%d7%9e%d7%96%d7%9c-%d7%9e%d7%90%d7%96%d7%a0%d7%99%d7%99%d7%9d-13/
END:VEVENT
BEGIN:VEVENT
DTSTART;TZID=UTC:20251021T152300
DTEND;TZID=UTC:20251021T184200
DTSTAMP:20260419T133205
CREATED:20250329T121910Z
LAST-MODIFIED:20250329T121910Z
UID:60111-1761060180-1761072120@www.pninastro.com
SUMMARY:ירח שחור במזל עקרב
DESCRIPTION:
URL:https://www.pninastro.com/event/%d7%99%d7%a8%d7%97-%d7%a9%d7%97%d7%95%d7%a8-%d7%91%d7%9e%d7%96%d7%9c-%d7%a2%d7%a7%d7%a8%d7%91-14/
END:VEVENT
BEGIN:VEVENT
DTSTART;TZID=UTC:20251024T071000
DTEND;TZID=UTC:20251024T071800
DTSTAMP:20260419T133205
CREATED:20250329T122029Z
LAST-MODIFIED:20250329T122029Z
UID:60113-1761289800-1761290280@www.pninastro.com
SUMMARY:ירח שחור במזל קשת
DESCRIPTION:
URL:https://www.pninastro.com/event/%d7%99%d7%a8%d7%97-%d7%a9%d7%97%d7%95%d7%a8-%d7%91%d7%9e%d7%96%d7%9c-%d7%a7%d7%a9%d7%aa-14/
END:VEVENT
BEGIN:VEVENT
DTSTART;TZID=UTC:20251026T193700
DTEND;TZID=UTC:20251026T195300
DTSTAMP:20260419T133205
CREATED:20250329T122258Z
LAST-MODIFIED:20250329T122258Z
UID:60115-1761507420-1761508380@www.pninastro.com
SUMMARY:ירח שחור במזל גדי
DESCRIPTION:
URL:https://www.pninastro.com/event/%d7%99%d7%a8%d7%97-%d7%a9%d7%97%d7%95%d7%a8-%d7%91%d7%9e%d7%96%d7%9c-%d7%92%d7%93%d7%99-14/
END:VEVENT
BEGIN:VEVENT
DTSTART;TZID=UTC:20251029T053400
DTEND;TZID=UTC:20251029T053400
DTSTAMP:20260419T133205
CREATED:20250329T122501Z
LAST-MODIFIED:20250329T122628Z
UID:60117-1761716040-1761716040@www.pninastro.com
SUMMARY:ירח שחור במזל דלי
DESCRIPTION:
URL:https://www.pninastro.com/event/%d7%99%d7%a8%d7%97-%d7%a9%d7%97%d7%95%d7%a8-%d7%91%d7%9e%d7%96%d7%9c-%d7%90%d7%95%d7%a7%d7%98%d7%95%d7%91%d7%a8/
END:VEVENT
BEGIN:VEVENT
DTSTART;TZID=UTC:20251031T081400
DTEND;TZID=UTC:20251031T133000
DTSTAMP:20260419T133205
CREATED:20250329T122853Z
LAST-MODIFIED:20250329T123027Z
UID:60122-1761898440-1761917400@www.pninastro.com
SUMMARY:ירח שחור במזל דגים
DESCRIPTION:
URL:https://www.pninastro.com/event/%d7%99%d7%a8%d7%97-%d7%a9%d7%97%d7%95%d7%a8-%d7%91%d7%9e%d7%96%d7%9c-%d7%93%d7%92%d7%99%d7%9d-13/
END:VEVENT
END:VCALENDAR