BEGIN:VCALENDAR
VERSION:2.0
PRODID:-//פנינה כץ - הורוסקופ שבועי - ECPv6.15.20//NONSGML v1.0//EN
CALSCALE:GREGORIAN
METHOD:PUBLISH
X-ORIGINAL-URL:https://www.pninastro.com
X-WR-CALDESC:Events for פנינה כץ - הורוסקופ שבועי
REFRESH-INTERVAL;VALUE=DURATION:PT1H
X-Robots-Tag:noindex
X-PUBLISHED-TTL:PT1H
BEGIN:VTIMEZONE
TZID:UTC
BEGIN:STANDARD
TZOFFSETFROM:+0000
TZOFFSETTO:+0000
TZNAME:UTC
DTSTART:20240101T000000
END:STANDARD
END:VTIMEZONE
BEGIN:VEVENT
DTSTART;TZID=UTC:20251201T200000
DTEND;TZID=UTC:20251202T051200
DTSTAMP:20260419T164945
CREATED:20250329T135907Z
LAST-MODIFIED:20250329T135907Z
UID:60150-1764619200-1764652320@www.pninastro.com
SUMMARY:ירח שחור במזל שור
DESCRIPTION:
URL:https://www.pninastro.com/event/%d7%99%d7%a8%d7%97-%d7%a9%d7%97%d7%95%d7%a8-%d7%91%d7%9e%d7%96%d7%9c-%d7%a9%d7%95%d7%a8-15/
END:VEVENT
BEGIN:VEVENT
DTSTART;TZID=UTC:20251204T034700
DTEND;TZID=UTC:20251204T044700
DTSTAMP:20260419T164945
CREATED:20250329T140045Z
LAST-MODIFIED:20250329T140045Z
UID:60152-1764820020-1764823620@www.pninastro.com
SUMMARY:ירח שחור במזל תאומים
DESCRIPTION:
URL:https://www.pninastro.com/event/%d7%99%d7%a8%d7%97-%d7%a9%d7%97%d7%95%d7%a8-%d7%91%d7%9e%d7%96%d7%9c-%d7%aa%d7%90%d7%95%d7%9e%d7%99%d7%9d-15/
END:VEVENT
BEGIN:VEVENT
DTSTART;TZID=UTC:20251206T025100
DTEND;TZID=UTC:20251206T035400
DTSTAMP:20260419T164945
CREATED:20250329T140207Z
LAST-MODIFIED:20250329T140207Z
UID:60154-1764989460-1764993240@www.pninastro.com
SUMMARY:ירח שחור במזל סרטן
DESCRIPTION:
URL:https://www.pninastro.com/event/%d7%99%d7%a8%d7%97-%d7%a9%d7%97%d7%95%d7%a8-%d7%91%d7%9e%d7%96%d7%9c-%d7%a1%d7%a8%d7%98%d7%9f-19/
END:VEVENT
BEGIN:VEVENT
DTSTART;TZID=UTC:20251208T034100
DTEND;TZID=UTC:20251208T044800
DTSTAMP:20260419T164945
CREATED:20250329T140317Z
LAST-MODIFIED:20250329T140317Z
UID:60156-1765165260-1765169280@www.pninastro.com
SUMMARY:ירח שחור במזל אריה
DESCRIPTION:
URL:https://www.pninastro.com/event/%d7%99%d7%a8%d7%97-%d7%a9%d7%97%d7%95%d7%a8-%d7%91%d7%9e%d7%96%d7%9c-%d7%90%d7%a8%d7%99%d7%94-17/
END:VEVENT
BEGIN:VEVENT
DTSTART;TZID=UTC:20251210T070000
DTEND;TZID=UTC:20251210T092000
DTSTAMP:20260419T164945
CREATED:20250329T140436Z
LAST-MODIFIED:20250329T140436Z
UID:60158-1765350000-1765358400@www.pninastro.com
SUMMARY:ירח שחור במזל בתולה
DESCRIPTION:
URL:https://www.pninastro.com/event/%d7%99%d7%a8%d7%97-%d7%a9%d7%97%d7%95%d7%a8-%d7%91%d7%9e%d7%96%d7%9c-%d7%91%d7%aa%d7%95%d7%9c%d7%94-16/
END:VEVENT
BEGIN:VEVENT
DTSTART;TZID=UTC:20251212T164700
DTEND;TZID=UTC:20251212T180400
DTSTAMP:20260419T164945
CREATED:20250329T140613Z
LAST-MODIFIED:20250329T140613Z
UID:60160-1765558020-1765562640@www.pninastro.com
SUMMARY:ירח שחור במזל מאזניים
DESCRIPTION:
URL:https://www.pninastro.com/event/%d7%99%d7%a8%d7%97-%d7%a9%d7%97%d7%95%d7%a8-%d7%91%d7%9e%d7%96%d7%9c-%d7%9e%d7%90%d7%96%d7%a0%d7%99%d7%99%d7%9d-14/
END:VEVENT
BEGIN:VEVENT
DTSTART;TZID=UTC:20251215T053500
DTEND;TZID=UTC:20251215T055100
DTSTAMP:20260419T164945
CREATED:20250329T140713Z
LAST-MODIFIED:20250329T140713Z
UID:60162-1765776900-1765777860@www.pninastro.com
SUMMARY:ירח שחור במזל עקרב
DESCRIPTION:
URL:https://www.pninastro.com/event/%d7%99%d7%a8%d7%97-%d7%a9%d7%97%d7%95%d7%a8-%d7%91%d7%9e%d7%96%d7%9c-%d7%a2%d7%a7%d7%a8%d7%91-17/
END:VEVENT
BEGIN:VEVENT
DTSTART;TZID=UTC:20251217T172000
DTEND;TZID=UTC:20251217T183800
DTSTAMP:20260419T164945
CREATED:20250329T140816Z
LAST-MODIFIED:20250329T140816Z
UID:60164-1765992000-1765996680@www.pninastro.com
SUMMARY:ירח שחור במזל קשת
DESCRIPTION:
URL:https://www.pninastro.com/event/%d7%99%d7%a8%d7%97-%d7%a9%d7%97%d7%95%d7%a8-%d7%91%d7%9e%d7%96%d7%9c-%d7%a7%d7%a9%d7%aa-17/
END:VEVENT
BEGIN:VEVENT
DTSTART;TZID=UTC:20251220T053600
DTEND;TZID=UTC:20251220T165200
DTSTAMP:20260419T164945
CREATED:20250329T140924Z
LAST-MODIFIED:20250329T140924Z
UID:60166-1766208960-1766249520@www.pninastro.com
SUMMARY:ירח שחור במזל גדי
DESCRIPTION:
URL:https://www.pninastro.com/event/%d7%99%d7%a8%d7%97-%d7%a9%d7%97%d7%95%d7%a8-%d7%91%d7%9e%d7%96%d7%9c-%d7%92%d7%93%d7%99-16/
END:VEVENT
BEGIN:VEVENT
DTSTART;TZID=UTC:20251222T164000
DTEND;TZID=UTC:20251222T175100
DTSTAMP:20260419T164945
CREATED:20250329T141057Z
LAST-MODIFIED:20250329T141057Z
UID:60168-1766421600-1766425860@www.pninastro.com
SUMMARY:ירח שחור במזל דלי
DESCRIPTION:
URL:https://www.pninastro.com/event/%d7%99%d7%a8%d7%97-%d7%a9%d7%97%d7%95%d7%a8-%d7%91%d7%9e%d7%96%d7%9c-%d7%93%d7%9c%d7%99-15/
END:VEVENT
BEGIN:VEVENT
DTSTART;TZID=UTC:20251224T234600
DTEND;TZID=UTC:20251225T030800
DTSTAMP:20260419T164945
CREATED:20250329T141226Z
LAST-MODIFIED:20250329T141257Z
UID:60170-1766619960-1766632080@www.pninastro.com
SUMMARY:ירח שחור במזל דגים
DESCRIPTION:
URL:https://www.pninastro.com/event/%d7%99%d7%a8%d7%97-%d7%a9%d7%97%d7%95%d7%a8-%d7%91%d7%9e%d7%96%d7%9c-%d7%93%d7%92%d7%99%d7%9d-14/
END:VEVENT
BEGIN:VEVENT
DTSTART;TZID=UTC:20251227T085900
DTEND;TZID=UTC:20251227T100100
DTSTAMP:20260419T164945
CREATED:20250329T141358Z
LAST-MODIFIED:20250329T141358Z
UID:60172-1766825940-1766829660@www.pninastro.com
SUMMARY:ירח שחור במזל טלה
DESCRIPTION:
URL:https://www.pninastro.com/event/%d7%99%d7%a8%d7%97-%d7%a9%d7%97%d7%95%d7%a8-%d7%91%d7%9e%d7%96%d7%9c-%d7%98%d7%9c%d7%94-15/
END:VEVENT
BEGIN:VEVENT
DTSTART;TZID=UTC:20251231T142100
DTEND;TZID=UTC:20251231T151200
DTSTAMP:20260419T164945
CREATED:20250329T141934Z
LAST-MODIFIED:20250726T143525Z
UID:60179-1767190860-1767193920@www.pninastro.com
SUMMARY:ירח שחור במזל תאומים
DESCRIPTION:
URL:https://www.pninastro.com/event/%d7%99%d7%a8%d7%97-%d7%a9%d7%97%d7%95%d7%a8-%d7%91%d7%9e%d7%96%d7%9c-%d7%aa%d7%90%d7%95%d7%9e%d7%99%d7%9d-17/
END:VEVENT
END:VCALENDAR