BEGIN:VCALENDAR
VERSION:2.0
PRODID:-//פנינה כץ - הורוסקופ שבועי - ECPv6.15.20//NONSGML v1.0//EN
CALSCALE:GREGORIAN
METHOD:PUBLISH
X-ORIGINAL-URL:https://www.pninastro.com
X-WR-CALDESC:Events for פנינה כץ - הורוסקופ שבועי
REFRESH-INTERVAL;VALUE=DURATION:PT1H
X-Robots-Tag:noindex
X-PUBLISHED-TTL:PT1H
BEGIN:VTIMEZONE
TZID:UTC
BEGIN:STANDARD
TZOFFSETFROM:+0000
TZOFFSETTO:+0000
TZNAME:UTC
DTSTART:20250101T000000
END:STANDARD
END:VTIMEZONE
BEGIN:VEVENT
DTSTART;TZID=UTC:20260831T224500
DTEND;TZID=UTC:20260901T110100
DTSTAMP:20260419T035808
CREATED:20260113T090528Z
LAST-MODIFIED:20260113T090631Z
UID:62605-1788216300-1788260460@www.pninastro.com
SUMMARY:ירח שחור במזל שור
DESCRIPTION:
URL:https://www.pninastro.com/event/%d7%99%d7%a8%d7%97-%d7%a9%d7%97%d7%95%d7%a8-%d7%91%d7%9e%d7%96%d7%9c-%d7%a9%d7%95%d7%a8-107/
END:VEVENT
BEGIN:VEVENT
DTSTART;TZID=UTC:20260902T134500
DTEND;TZID=UTC:20260903T144700
DTSTAMP:20260419T035808
CREATED:20260113T090810Z
LAST-MODIFIED:20260113T090810Z
UID:62607-1788356700-1788446820@www.pninastro.com
SUMMARY:ירח שחור במזל תאומים
DESCRIPTION:
URL:https://www.pninastro.com/event/%d7%99%d7%a8%d7%97-%d7%a9%d7%97%d7%95%d7%a8-%d7%91%d7%9e%d7%96%d7%9c-%d7%aa%d7%90%d7%95%d7%9e%d7%99%d7%9d-108/
END:VEVENT
BEGIN:VEVENT
DTSTART;TZID=UTC:20260903T080000
DTEND;TZID=UTC:20261114T170000
DTSTAMP:20260419T035808
CREATED:20260113T100251Z
LAST-MODIFIED:20260113T100251Z
UID:62665-1788422400-1794675600@www.pninastro.com
SUMMARY:ונוס בנסיגה במזל עקרב
DESCRIPTION:
URL:https://www.pninastro.com/event/%d7%95%d7%a0%d7%95%d7%a1-%d7%91%d7%a0%d7%a1%d7%99%d7%92%d7%94-%d7%91%d7%9e%d7%96%d7%9c-%d7%a2%d7%a7%d7%a8%d7%91/
END:VEVENT
BEGIN:VEVENT
DTSTART;TZID=UTC:20260905T113800
DTEND;TZID=UTC:20260905T173000
DTSTAMP:20260419T035808
CREATED:20260113T091111Z
LAST-MODIFIED:20260113T091111Z
UID:62609-1788608280-1788629400@www.pninastro.com
SUMMARY:ירח שחור במזל סרטן
DESCRIPTION:
URL:https://www.pninastro.com/event/%d7%99%d7%a8%d7%97-%d7%a9%d7%97%d7%95%d7%a8-%d7%91%d7%9e%d7%96%d7%9c-%d7%a1%d7%a8%d7%98%d7%9f-110/
END:VEVENT
BEGIN:VEVENT
DTSTART;TZID=UTC:20260907T163800
DTEND;TZID=UTC:20260907T194900
DTSTAMP:20260419T035808
CREATED:20260113T091220Z
LAST-MODIFIED:20260113T091220Z
UID:62611-1788799080-1788810540@www.pninastro.com
SUMMARY:ירח שחור במזל אריה
DESCRIPTION:
URL:https://www.pninastro.com/event/%d7%99%d7%a8%d7%97-%d7%a9%d7%97%d7%95%d7%a8-%d7%91%d7%9e%d7%96%d7%9c-%d7%90%d7%a8%d7%99%d7%94-113/
END:VEVENT
BEGIN:VEVENT
DTSTART;TZID=UTC:20260909T215600
DTEND;TZID=UTC:20260909T223400
DTSTAMP:20260419T035808
CREATED:20260113T091332Z
LAST-MODIFIED:20260113T091332Z
UID:62613-1788990960-1788993240@www.pninastro.com
SUMMARY:ירח שחור במזל בתולה
DESCRIPTION:
URL:https://www.pninastro.com/event/%d7%99%d7%a8%d7%97-%d7%a9%d7%97%d7%95%d7%a8-%d7%91%d7%9e%d7%96%d7%9c-%d7%91%d7%aa%d7%95%d7%9c%d7%94-110/
END:VEVENT
BEGIN:VEVENT
DTSTART;TZID=UTC:20260911T062800
DTEND;TZID=UTC:20260911T062800
DTSTAMP:20260419T035808
CREATED:20260113T123455Z
LAST-MODIFIED:20260113T123455Z
UID:62685-1789108080-1789108080@www.pninastro.com
SUMMARY:מולד ירח במזל בתולה
DESCRIPTION:
URL:https://www.pninastro.com/event/%d7%9e%d7%95%d7%9c%d7%93-%d7%99%d7%a8%d7%97-%d7%91%d7%9e%d7%96%d7%9c-%d7%91%d7%aa%d7%95%d7%9c%d7%94/
END:VEVENT
BEGIN:VEVENT
DTSTART;TZID=UTC:20260911T085000
DTEND;TZID=UTC:20260912T025100
DTSTAMP:20260419T035808
CREATED:20260113T091432Z
LAST-MODIFIED:20260113T091432Z
UID:62615-1789116600-1789181460@www.pninastro.com
SUMMARY:ירח שחור במזל מאזניים
DESCRIPTION:
URL:https://www.pninastro.com/event/%d7%99%d7%a8%d7%97-%d7%a9%d7%97%d7%95%d7%a8-%d7%91%d7%9e%d7%96%d7%9c-%d7%9e%d7%90%d7%96%d7%a0%d7%99%d7%99%d7%9d-111/
END:VEVENT
BEGIN:VEVENT
DTSTART;TZID=UTC:20260913T172400
DTEND;TZID=UTC:20260914T094400
DTSTAMP:20260419T035808
CREATED:20260113T091550Z
LAST-MODIFIED:20260113T091550Z
UID:62617-1789320240-1789379040@www.pninastro.com
SUMMARY:ירח שחור במזל עקרב
DESCRIPTION:
URL:https://www.pninastro.com/event/%d7%99%d7%a8%d7%97-%d7%a9%d7%97%d7%95%d7%a8-%d7%91%d7%9e%d7%96%d7%9c-%d7%a2%d7%a7%d7%a8%d7%91-114/
END:VEVENT
BEGIN:VEVENT
DTSTART;TZID=UTC:20260916T062800
DTEND;TZID=UTC:20260916T194100
DTSTAMP:20260419T035808
CREATED:20260113T091824Z
LAST-MODIFIED:20260113T091824Z
UID:62619-1789540080-1789587660@www.pninastro.com
SUMMARY:ירח שחור במזל קשת
DESCRIPTION:
URL:https://www.pninastro.com/event/%d7%99%d7%a8%d7%97-%d7%a9%d7%97%d7%95%d7%a8-%d7%91%d7%9e%d7%96%d7%9c-%d7%a7%d7%a9%d7%aa-107/
END:VEVENT
BEGIN:VEVENT
DTSTART;TZID=UTC:20260918T234200
DTEND;TZID=UTC:20260919T075500
DTSTAMP:20260419T035808
CREATED:20260113T091932Z
LAST-MODIFIED:20260113T091932Z
UID:62621-1789774920-1789804500@www.pninastro.com
SUMMARY:ירח שחור במזל גדי
DESCRIPTION:
URL:https://www.pninastro.com/event/%d7%99%d7%a8%d7%97-%d7%a9%d7%97%d7%95%d7%a8-%d7%91%d7%9e%d7%96%d7%9c-%d7%92%d7%93%d7%99-110/
END:VEVENT
BEGIN:VEVENT
DTSTART;TZID=UTC:20260921T172900
DTEND;TZID=UTC:20260921T201400
DTSTAMP:20260419T035808
CREATED:20260113T092123Z
LAST-MODIFIED:20260113T092123Z
UID:62623-1790011740-1790021640@www.pninastro.com
SUMMARY:ירח שחור במזל דלי
DESCRIPTION:
URL:https://www.pninastro.com/event/%d7%99%d7%a8%d7%97-%d7%a9%d7%97%d7%95%d7%a8-%d7%91%d7%9e%d7%96%d7%9c-%d7%93%d7%9c%d7%99-109/
END:VEVENT
BEGIN:VEVENT
DTSTART;TZID=UTC:20260923T111600
DTEND;TZID=UTC:20260924T201400
DTSTAMP:20260419T035808
CREATED:20260113T092224Z
LAST-MODIFIED:20260113T092224Z
UID:62625-1790162160-1790280840@www.pninastro.com
SUMMARY:ירח שחור במזל דגים
DESCRIPTION:
URL:https://www.pninastro.com/event/%d7%99%d7%a8%d7%97-%d7%a9%d7%97%d7%95%d7%a8-%d7%91%d7%9e%d7%96%d7%9c-%d7%93%d7%92%d7%99%d7%9d-108/
END:VEVENT
BEGIN:VEVENT
DTSTART;TZID=UTC:20260926T113000
DTEND;TZID=UTC:20260926T132300
DTSTAMP:20260419T035808
CREATED:20260113T092412Z
LAST-MODIFIED:20260113T092412Z
UID:62627-1790422200-1790428980@www.pninastro.com
SUMMARY:ירח שחור במזל טלה
DESCRIPTION:
URL:https://www.pninastro.com/event/%d7%99%d7%a8%d7%97-%d7%a9%d7%97%d7%95%d7%a8-%d7%91%d7%9e%d7%96%d7%9c-%d7%98%d7%9c%d7%94-107/
END:VEVENT
BEGIN:VEVENT
DTSTART;TZID=UTC:20260928T124800
DTEND;TZID=UTC:20260928T173900
DTSTAMP:20260419T035808
CREATED:20260113T092525Z
LAST-MODIFIED:20260113T092525Z
UID:62629-1790599680-1790617140@www.pninastro.com
SUMMARY:ירח שחור במזל שור
DESCRIPTION:
URL:https://www.pninastro.com/event/%d7%99%d7%a8%d7%97-%d7%a9%d7%97%d7%95%d7%a8-%d7%91%d7%9e%d7%96%d7%9c-%d7%a9%d7%95%d7%a8-108/
END:VEVENT
BEGIN:VEVENT
DTSTART;TZID=UTC:20260930T022500
DTEND;TZID=UTC:20260930T202600
DTSTAMP:20260419T035808
CREATED:20260113T092633Z
LAST-MODIFIED:20260113T092633Z
UID:62631-1790735100-1790799960@www.pninastro.com
SUMMARY:ירח שחור במזל תאומים
DESCRIPTION:
URL:https://www.pninastro.com/event/%d7%99%d7%a8%d7%97-%d7%a9%d7%97%d7%95%d7%a8-%d7%91%d7%9e%d7%96%d7%9c-%d7%aa%d7%90%d7%95%d7%9e%d7%99%d7%9d-109/
END:VEVENT
END:VCALENDAR